BEGIN:VCALENDAR
VERSION:2.0
PRODID:-//ChamberMaster//Event Calendar 2.0//EN
METHOD:PUBLISH
X-PUBLISHED-TTL:P3D
REFRESH-INTERVAL:P3D
CALSCALE:GREGORIAN
BEGIN:VEVENT
DTSTART:20230307T230000Z
DTEND:20230308T000000Z
X-MICROSOFT-CDO-ALLDAYEVENT:FALSE
SUMMARY:The Impact of Gospel Music from 2000-Present: A Concert
DESCRIPTION:Let the music speak. The journey continues. A celebration of gospel music's range and impact from 2000-present.
X-ALT-DESC;FMTTYPE=text/html:<span style="color:rgb(0\, 0\, 0)\; font-family:verdana\,arial\,helvetica\,sans-serif\; font-size:11px">Let the music speak. The journey continues. A celebration of gospel music&#39\;s range and impact from 2000-present.</span>
LOCATION:FAC-SP2\, Rm 134\, Sealy Auditorium 10000 Germanna Point Dr Fredericksburg\, Virginia 22408
UID:e.492.13427
SEQUENCE:3
DTSTAMP:20260422T103140Z
URL:https://members.fredericksburgchamber.org/events/details/the-impact-of-gospel-music-from-2000-present-a-concert-13427
END:VEVENT

END:VCALENDAR
