BEGIN:VCALENDAR
VERSION:2.0
PRODID:-//ChamberMaster//Event Calendar 2.0//EN
METHOD:PUBLISH
X-PUBLISHED-TTL:P3D
REFRESH-INTERVAL:P3D
CALSCALE:GREGORIAN
BEGIN:VEVENT
DTSTART:20221213T150000Z
DTEND:20221213T170000Z
X-MICROSOFT-CDO-ALLDAYEVENT:FALSE
SUMMARY:The Importance of Preparing for a Commercial Loan Application
DESCRIPTION:This two-hour webinar will go over the importance of preparing for a commercial loan application. It will help you be more prepared to approach a lender with your loan package fully developed to present. Learning Outcomes: - Standard Loan Documents Needed - The Importance of the Business Story - The Importance of Creating a Business Relationship with a Lender
X-ALT-DESC;FMTTYPE=text/html:This two-hour webinar will go over the importance of preparing for a commercial loan application. It will help you be more prepared to approach a lender with your loan package fully developed to present. Learning Outcomes: - Standard Loan Documents Needed - The Importance of the Business Story - The Importance of Creating a Business Relationship with a Lender
LOCATION:Virtual
UID:e.492.13233
SEQUENCE:3
DTSTAMP:20260422T152046Z
URL:https://members.fredericksburgchamber.org/events/details/the-importance-of-preparing-for-a-commercial-loan-application-13233
END:VEVENT

END:VCALENDAR
