BEGIN:VCALENDAR
VERSION:2.0
PRODID:-//ChamberMaster//Event Calendar 2.0//EN
METHOD:PUBLISH
X-PUBLISHED-TTL:P3D
REFRESH-INTERVAL:P3D
CALSCALE:GREGORIAN
BEGIN:VEVENT
DTSTART:20221203T163000Z
DTEND:20221203T180000Z
X-MICROSOFT-CDO-ALLDAYEVENT:FALSE
SUMMARY:The Polar Express
DESCRIPTION:Join us for our first holiday classic film of the season at the Medal of Honor Theater! Tickets are now available for The Polar Express\, showing on December 3rd at 11:30AM. The Medal of Honor Theater is located at the National Museum of the Marine Corps and offers a Giant Screen experience! The Polar Express is an inspiring adventure based on the beloved children's book by Chris Van Allsburg. When a doubting young boy takes an extraordinary train ride to the North Pole\, he embarks on a journey of self-discovery that shows him that the wonder of life never fades for those who believe. The Polar Express is rated G and is suitable for all audiences. Reserve your seats now: https://bit.ly/3Ax50Ew
X-ALT-DESC;FMTTYPE=text/html:Join us for our first holiday classic film of the season at the Medal of Honor Theater! Tickets are now available for The Polar Express\, showing on December 3rd at 11:30AM. The Medal of Honor Theater is located at the National Museum of the Marine Corps and offers a Giant Screen experience! The Polar Express is an inspiring adventure based on the beloved children&#39\;s book by Chris Van Allsburg. When a doubting young boy takes an extraordinary train ride to the North Pole\, he embarks on a journey of self-discovery that shows him that the wonder of life never fades for those who believe. The Polar Express is rated G and is suitable for all audiences. Reserve your seats now: https://bit.ly/3Ax50Ew
LOCATION:National Museum of the Marine Corps 1775 Semper Fidelis Way Triangle\, VA 22172
UID:e.492.13238
SEQUENCE:3
DTSTAMP:20260422T150111Z
URL:https://members.fredericksburgchamber.org/events/details/the-polar-express-13238
END:VEVENT

END:VCALENDAR
