BEGIN:VCALENDAR
VERSION:2.0
PRODID:-//ChamberMaster//Event Calendar 2.0//EN
METHOD:PUBLISH
X-PUBLISHED-TTL:P3D
REFRESH-INTERVAL:P3D
CALSCALE:GREGORIAN
BEGIN:VEVENT
DTSTART:20251121T000000Z
DTEND:20251121T020000Z
X-MICROSOFT-CDO-ALLDAYEVENT:FALSE
SUMMARY:The Presidential Legacy of James Monroe Lecture
DESCRIPTION:The bicentennial commemoration of James Monroe's presidency concludes with an examination of its impact and enduring influence. UMW Museums Executive Director Scott Harris moderates a discussion with Lindsay M. Chervinsky\, Executive Director of the George Washington Presidential Library at Mount Vernon\, and Bob Karachuk\, Editor and Project Director\, the Papers of James Monroe.
X-ALT-DESC;FMTTYPE=text/html:The bicentennial commemoration of James Monroe&rsquo\;s presidency concludes with an examination of its impact and enduring influence. UMW Museums Executive Director Scott Harris moderates a discussion with Lindsay M. Chervinsky\, Executive Director of the George Washington Presidential Library at Mount Vernon\, and Bob Karachuk\, Editor and Project Director\, the Papers of James Monroe.
LOCATION:University of Mary Washington 1301 College Ave Monroe Hall- Room 116
UID:e.492.15094
SEQUENCE:3
DTSTAMP:20260421T193719Z
URL:https://members.fredericksburgchamber.org/events/details/the-presidential-legacy-of-james-monroe-lecture-15094
END:VEVENT

END:VCALENDAR
