BEGIN:VCALENDAR
VERSION:2.0
PRODID:-//ChamberMaster//Event Calendar 2.0//EN
METHOD:PUBLISH
X-PUBLISHED-TTL:P3D
REFRESH-INTERVAL:P3D
CALSCALE:GREGORIAN
BEGIN:VEVENT
DTSTART:20230412T160000Z
DTEND:20230412T173000Z
X-MICROSOFT-CDO-ALLDAYEVENT:FALSE
SUMMARY:The RFP: Who? What? When?
DESCRIPTION:Many bid requests are written by different people\, with different knowledge and interests\, with no two bid requests exactly the same. To be successful in your bid submission you should follow the organizational priority set by those who manage the evaluation process. This training will outline the bid request structure for major competitive and negotiated procurements to simplify proposal preparation and evaluation for offerors\, contractors\, and contract administrators. Based on the RFP\, you will successfully develop a proposal in accordance with the Government instructions and expectations. Training Objectives:   Understand the solicitation and the importance of writing proposals.   Identify the foundational sections of a proposal by using them as the organizational building blocks in proposal and templates.   Analyze Sections C\,H\, L\, and M of a Request for Proposal (RFP) and identify requirements\, evaluation criteria\, and technical support needed to be compliant
X-ALT-DESC;FMTTYPE=text/html:Many bid requests are written by different people\, with different knowledge and interests\, with no two bid requests exactly the same. To be successful in your bid submission you should follow the organizational priority set by those who manage the evaluation process. This training will outline the bid request structure for major competitive and negotiated procurements to simplify proposal preparation and evaluation for offerors\, contractors\, and contract administrators. Based on the RFP\, you will successfully develop a proposal in accordance with the Government instructions and expectations. Training Objectives: &bull\; Understand the solicitation and the importance of writing proposals. &bull\; Identify the foundational sections of a proposal by using them as the organizational building blocks in proposal and templates. &bull\; Analyze Sections C\,H\, L\, and M of a Request for Proposal (RFP) and identify requirements\, evaluation criteria\, and technical support needed to be compliant
LOCATION:Virtual via Zoom
UID:e.492.13444
SEQUENCE:3
DTSTAMP:20260422T102442Z
URL:https://members.fredericksburgchamber.org/events/details/the-rfp-who-what-when-13444
END:VEVENT

END:VCALENDAR
