BEGIN:VCALENDAR
VERSION:2.0
PRODID:-//ChamberMaster//Event Calendar 2.0//EN
METHOD:PUBLISH
X-PUBLISHED-TTL:P3D
REFRESH-INTERVAL:P3D
CALSCALE:GREGORIAN
BEGIN:VEVENT
DTSTART;VALUE=DATE:20260309
DTEND;VALUE=DATE:20260331
TRANSP:TRANSPARENT
X-MICROSOFT-CDO-ALLDAYEVENT:TRUE
SUMMARY:The Salvation Army FAMILY STORE - Going Out of Business Sales
DESCRIPTION:The Salvation Army Fredericksburg Family Store is closing its store on Monday\, March 30\, 2026.\n\nCheck Facebook weekly for sales announcement changes.\n25% off store wide Monday 9th- Saturday 14th\n\n50% off store wide Monday 16th- Saturday 21st\n\n75% off store wide Monday 23rd- Saturday 28th\n\nDonation pick-ups will no longer be scheduled.
X-ALT-DESC;FMTTYPE=text/html:The Salvation Army Fredericksburg Family Store is closing its store on Monday\, March 30\, 2026.<br />\nCheck Facebook weekly for sales announcement changes.\n<div>25% off store wide Monday 9th- Saturday 14th</div>\n\n<div>50% off store wide Monday 16th- Saturday 21st</div>\n\n<div>75% off store wide Monday 23rd- Saturday 28th<br />\nDonation pick-ups will no longer be scheduled.&nbsp\;</div>\n
LOCATION:1275 Emancipation Hwy in Eagle Village
UID:e.492.15219
SEQUENCE:3
DTSTAMP:20260421T115235Z
URL:https://members.fredericksburgchamber.org/events/details/the-salvation-army-family-store-going-out-of-business-sales-15219
END:VEVENT

END:VCALENDAR
