BEGIN:VCALENDAR
VERSION:2.0
PRODID:-//ChamberMaster//Event Calendar 2.0//EN
METHOD:PUBLISH
X-PUBLISHED-TTL:P3D
REFRESH-INTERVAL:P3D
CALSCALE:GREGORIAN
BEGIN:VEVENT
DTSTART:20231202T003000Z
DTEND:20231202T013000Z
X-MICROSOFT-CDO-ALLDAYEVENT:FALSE
SUMMARY:The String Queens in Concert
DESCRIPTION:THE STRING QUEENS (TSQ)\, A DC-BASED TRIO\, WILL PERFORM AT THE UNIVERSITY OF MARY WASHINGTON'S DODD AUDITORIUM ON 12/1. THIS EVENT IS FREE AND OPEN TO THE PUBLIC. REGISTRATION IS REQUIRED. Join us for The String Queens in Concert at UMW on 12/1/23 in Dodd Auditorium! Hosted by Continuing and Professional Studies and the Music Department. This is a FREE event. Register here: https://lp.constantcontactpages.com/ev/reg/zphj47g Praised for its authentic\, soulful\, and orchestral sound\, The String Queens (TSQ) is a dynamic trio that creates stimulating musical experiences that inspire diverse audiences to love\, hope\, feel\, and imagine! With an array of repertoire spanning from the Baroque era to the Jazz Age to today's Billboard Hot 100 Chart\, TSQ performs versatile programs that take listeners on a rousing musical journey through time and a multitude of musical genres.
X-ALT-DESC;FMTTYPE=text/html:THE STRING QUEENS (TSQ)\, A DC-BASED TRIO\, WILL PERFORM AT THE UNIVERSITY OF MARY WASHINGTON&#39\;S DODD AUDITORIUM ON 12/1. THIS EVENT IS FREE AND OPEN TO THE PUBLIC. REGISTRATION IS REQUIRED. Join us for The String Queens in Concert at UMW on 12/1/23 in Dodd Auditorium! Hosted by Continuing and Professional Studies and the Music Department. This is a FREE event. Register here: https://lp.constantcontactpages.com/ev/reg/zphj47g Praised for its authentic\, soulful\, and orchestral sound\, The String Queens (TSQ) is a dynamic trio that creates stimulating musical experiences that inspire diverse audiences to love\, hope\, feel\, and imagine! With an array of repertoire spanning from the Baroque era to the Jazz Age to today&rsquo\;s Billboard Hot 100 Chart\, TSQ performs versatile programs that take listeners on a rousing musical journey through time and a multitude of musical genres.
LOCATION:Dodd Auditorium\, 1301 College Avenue\, Fredericksburg\, VA 22401
UID:e.492.13780
SEQUENCE:3
DTSTAMP:20260421T232448Z
URL:https://members.fredericksburgchamber.org/events/details/the-string-queens-in-concert-13780
END:VEVENT

END:VCALENDAR
