BEGIN:VCALENDAR
VERSION:2.0
PRODID:-//ChamberMaster//Event Calendar 2.0//EN
METHOD:PUBLISH
X-PUBLISHED-TTL:P3D
REFRESH-INTERVAL:P3D
CALSCALE:GREGORIAN
BEGIN:VEVENT
DTSTART:20260319T220000Z
DTEND:20260320T000000Z
X-MICROSOFT-CDO-ALLDAYEVENT:FALSE
SUMMARY:The Tory's Wife: Women's History Lecture
DESCRIPTION:Join the University of Mary Washington Museums this Women's History Month for a book talk with author Cynthia Kierner. Kierner's book\, The Tory's Wife\, tells the compelling story of Jane Welborn Spurgin\, a Patriot who aided Continental forces and hosted General Nathanael Greene despite her husband being a Loyalist officer. Don't miss this event exploring how one woman navigated loyalty\, marriage\, and survival in Revolutionary America. Light refreshments\, a book signing\, and an opportunity to see a portrait of General Greene to follow after the lecture.
X-ALT-DESC;FMTTYPE=text/html:Join the University of Mary Washington Museums this Women&#39\;s History Month for a book talk with author Cynthia Kierner. Kierner&#39\;s book\, The Tory&#39\;s Wife\, tells the compelling story of Jane Welborn Spurgin\, a Patriot who aided Continental forces and hosted General Nathanael Greene despite her husband being a Loyalist officer. Don&#39\;t miss this event exploring how one woman navigated loyalty\, marriage\, and survival in Revolutionary America. Light refreshments\, a book signing\, and an opportunity to see a portrait of General Greene to follow after the lecture.
LOCATION:Gari Melchers Home & Studio 224 Washington St Falmouth\, Virginia 22405
UID:e.492.15208
SEQUENCE:3
DTSTAMP:20260421T114900Z
URL:https://members.fredericksburgchamber.org/events/details/the-tory-s-wife-women-s-history-lecture-15208
END:VEVENT

END:VCALENDAR
