BEGIN:VCALENDAR
VERSION:2.0
PRODID:-//ChamberMaster//Event Calendar 2.0//EN
METHOD:PUBLISH
X-PUBLISHED-TTL:P3D
REFRESH-INTERVAL:P3D
CALSCALE:GREGORIAN
BEGIN:VEVENT
DTSTART:20230428T230000Z
DTEND:20230429T030000Z
X-MICROSOFT-CDO-ALLDAYEVENT:FALSE
SUMMARY:The Ultimate Doors A Tribute to the Doors
DESCRIPTION:THIS FRIDAY The Ultimate Doors: Tribute to The Doors in The Groove Music Hall! With great attention to detail\, The Ultimate Doors provide their audiences with an authentic looking and sounding tribute to Jim Morrison The Doors. From Jim Morrison's leather outfits all the way down to the color of the microphone cable\, The Ultimate Doors leaves no stone unturned in bringing an authentic Doors tribute show to the stage. https://drevents.ticketstobuy.com/event/134\n\nAbout the Venue: https://www.thegroovemusichall.com/\n\nThe Groove Music Hall is now proudly Powered by Affordable Automotive Repair!
X-ALT-DESC;FMTTYPE=text/html:<div dir="auto" style="font-family: system-ui\, -apple-system\, BlinkMacSystemFont\, &quot\;.SFNSText-Regular&quot\;\, sans-serif\; caret-color: rgb(228\, 230\, 235)\; color: rgb(228\, 230\, 235)\; font-size: 15px\; white-space: pre-wrap\;"><span style="color:#000000">THIS FRIDAY </span><span style="font-family:inherit"><a class="x1i10hfl xjbqb8w x6umtig x1b1mbwd xaqea5y xav7gou x9f619 x1ypdohk xt0psk2 xe8uvvx xdj266r x11i5rnm xat24cr x1mh8g0r xexx8yu x4uap5 x18d9i69 xkhd6sd x16tdsg8 x1hl2dhg xggy1nq x1a2a7pz xt0b8zv x1qq9wsj xo1l8bm" href="https://www.facebook.com/theultimatedoors?__cft__[0]=AZUO2Asx3T40HaEJXr4xhovDMSNAfRPSgjpKDDWNv4O5unAv8gvj4abqW1JcMfuntHolnUBs7-lQ7LdK0lH_QVo8zCkcFEldjb1oF4QRbg6i-k6jSxu6dz_8le-WvE-ZbqcwHwMl8KJmKNi9enWfyHCIGHwWxKUSdxF-HZVbnZbYvvk3gtgfQ7B51FYyogbHZTE&amp\;__tn__=-]K-R" role="link" style="color: var(--accent)\; cursor: pointer\; text-decoration: none\; border: 0px\; outline: none\; list-style: none\; margin: 0px\; text-align: inherit\; padding: 0px\; box-sizing: border-box\; touch-action: manipulation\; display: inline\; font-family: inherit\;" tabindex="0"><span style="color:#000000"><span class="xt0psk2" style="display:inline\; font-family:inherit">The Ultimate Doors: Tribute to The Doors</span></span></a></span><span style="color:#000000"> in The Groove Music Hall! With great attention to detail\, The Ultimate Doors provide their audiences with an authentic looking and sounding tribute to </span><span style="font-family:inherit"><a class="x1i10hfl xjbqb8w x6umtig x1b1mbwd xaqea5y xav7gou x9f619 x1ypdohk xt0psk2 xe8uvvx xdj266r x11i5rnm xat24cr x1mh8g0r xexx8yu x4uap5 x18d9i69 xkhd6sd x16tdsg8 x1hl2dhg xggy1nq x1a2a7pz xt0b8zv x1qq9wsj xo1l8bm" href="https://www.facebook.com/profile.php?id=100050406133111&amp\;__cft__[0]=AZUO2Asx3T40HaEJXr4xhovDMSNAfRPSgjpKDDWNv4O5unAv8gvj4abqW1JcMfuntHolnUBs7-lQ7LdK0lH_QVo8zCkcFEldjb1oF4QRbg6i-k6jSxu6dz_8le-WvE-ZbqcwHwMl8KJmKNi9enWfyHCIGHwWxKUSdxF-HZVbnZbYvvk3gtgfQ7B51FYyogbHZTE&amp\;__tn__=-]K-R" role="link" style="color: var(--accent)\; cursor: pointer\; text-decoration: none\; border: 0px\; outline: none\; list-style: none\; margin: 0px\; text-align: inherit\; padding: 0px\; box-sizing: border-box\; touch-action: manipulation\; display: inline\; font-family: inherit\;" tabindex="0"><span style="color:#000000"><span class="xt0psk2" style="display:inline\; font-family:inherit">Jim Morrison The Doors</span></span></a></span><span style="color:#000000">. From Jim Morrison&#39\;s leather outfits all the way down to the color of the microphone cable\, The Ultimate Doors leaves no stone unturned in bringing an authentic Doors tribute show to the stage. </span><span style="font-family:inherit"><a class="x1i10hfl xjbqb8w x6umtig x1b1mbwd xaqea5y xav7gou x9f619 x1ypdohk xt0psk2 xe8uvvx xdj266r x11i5rnm xat24cr x1mh8g0r xexx8yu x4uap5 x18d9i69 xkhd6sd x16tdsg8 x1hl2dhg xggy1nq x1a2a7pz xt0b8zv x1fey0fg" href="https://l.facebook.com/l.php?u=https%3A%2F%2Fdrevents.ticketstobuy.com%2Fevent%2F134%3Ffbclid%3DIwAR1AXMtKQb3iitf6ichpiaAfo5L-s1_WSRU0zHHnNp-etCy-Tz8vaEiLDd0&amp\;h=AT1arJBbBLmal1HRzvHYMjg4vyKk-Dh73BtC-MOUuGdT3-wYw7o7Xw5p4hLIMGodWcThAEesHoaErrWK3RyU_Uxa4wnkaXLzSMmOIb3MxjSEaFLzZ4-72QzBiFGJJkMzFO4APY4Ix68Y_MoXPoyE1tA&amp\;__tn__=-UK-R&amp\;c[0]=AT1d89a9NGRnVCrnmMXfrjP7hlwssmgTiuaIhSRLBtbZT-nis4W3XvioaOSxy8q2Jg84fx7jp7Vd9gowek_Awu53z9FIhCOY1Fh_Xhy77FgAa0NP_-QLscfpiNS-BnJBnFR4nGrmKf-5eFyl7fITdFfK0DMi7GRFp_0qDbByKSJIm1meVXtAJprc_b3_dYSIaIzPwlFOZi16" rel="nofollow noopener" role="link" style="color: var(--blue-link)\; cursor: pointer\; text-decoration: none\; border: 0px\; outline: none\; list-style: none\; margin: 0px\; text-align: inherit\; padding: 0px\; box-sizing: border-box\; touch-action: manipulation\; display: inline\; font-family: inherit\;" tabindex="0" target="_blank"><span style="color:#000000">https://drevents.ticketstobuy.com/event/134</span></a></span></div>\n\n<div dir="auto" style="font-family: system-ui\, -apple-system\, BlinkMacSystemFont\, &quot\;.SFNSText-Regular&quot\;\, sans-serif\; caret-color: rgb(228\, 230\, 235)\; color: rgb(228\, 230\, 235)\; font-size: 15px\; white-space: pre-wrap\;"><span style="color:#000000">About the </span><span style="color:#000000">Venue: </span><span style="font-family:inherit"><a class="x1i10hfl xjbqb8w x6umtig x1b1mbwd xaqea5y xav7gou x9f619 x1ypdohk xt0psk2 xe8uvvx xdj266r x11i5rnm xat24cr x1mh8g0r xexx8yu x4uap5 x18d9i69 xkhd6sd x16tdsg8 x1hl2dhg xggy1nq x1a2a7pz xt0b8zv x1fey0fg" href="https://l.facebook.com/l.php?u=https%3A%2F%2Fwww.thegroovemusichall.com%2F%3Ffbclid%3DIwAR2gK1l5-rYTSVc0dR80GNNyozw_IeEh2kxF2Hvn9BMoF-hogcJGoNHqW_A&amp\;h=AT0IeJUXsTAZ6eIBrWXwCUIccTqEK72TwtONDH0ORDJpcU5HxrwMjiyycs8QezdGHcxwCKwwOd8EsCQs2kSW6Gl86cCTLtltzwlnlA7w5UaKwjouKOgC2DJP8J84mO8tf7F9PpiGs0QrPkalnXBlTfA&amp\;__tn__=-UK-R&amp\;c[0]=AT1d89a9NGRnVCrnmMXfrjP7hlwssmgTiuaIhSRLBtbZT-nis4W3XvioaOSxy8q2Jg84fx7jp7Vd9gowek_Awu53z9FIhCOY1Fh_Xhy77FgAa0NP_-QLscfpiNS-BnJBnFR4nGrmKf-5eFyl7fITdFfK0DMi7GRFp_0qDbByKSJIm1meVXtAJprc_b3_dYSIaIzPwlFOZi16" rel="nofollow noopener" role="link" style="color: var(--blue-link)\; cursor: pointer\; text-decoration: none\; border: 0px\; outline: none\; list-style: none\; margin: 0px\; text-align: inherit\; padding: 0px\; box-sizing: border-box\; touch-action: manipulation\; display: inline\; font-family: inherit\;" tabindex="0" target="_blank"><span style="color:#000000">https://www.thegroovemusichall.com/</span></a></span></div>\n\n<div dir="auto" style="font-family: system-ui\, -apple-system\, BlinkMacSystemFont\, &quot\;.SFNSText-Regular&quot\;\, sans-serif\; caret-color: rgb(228\, 230\, 235)\; color: rgb(228\, 230\, 235)\; font-size: 15px\; white-space: pre-wrap\;"><span style="color:#000000">The Groove Music Hall is now proudly Powered by Affordable Automotive Repair!</span></div>\n
LOCATION:The Groove Music Hall 6501 Dominion Raceway Ave Thornburg\, VA 22580
UID:e.492.13521
SEQUENCE:3
DTSTAMP:20260422T084705Z
URL:https://members.fredericksburgchamber.org/events/details/the-ultimate-doors-a-tribute-to-the-doors-13521
END:VEVENT

END:VCALENDAR
