BEGIN:VCALENDAR
VERSION:2.0
PRODID:-//ChamberMaster//Event Calendar 2.0//EN
METHOD:PUBLISH
X-PUBLISHED-TTL:P3D
REFRESH-INTERVAL:P3D
CALSCALE:GREGORIAN
BEGIN:VEVENT
DTSTART:20231220T170000Z
DTEND:20240201T050000Z
X-MICROSOFT-CDO-ALLDAYEVENT:FALSE
SUMMARY:Tickle Me Pink Fundraiser
DESCRIPTION:In these challenging times\, our commitment to making a positive impact in the community remains unwavering. Therefore\, we are asking for your support in our Tickle Me Pink virtual fundraiser. This helps us make a meaningful difference in the lives of those we aim to support from becoming homeless. Contact Sharon to purchase your ticket.
X-ALT-DESC;FMTTYPE=text/html:In these challenging times\, our commitment to making a positive impact in the community remains unwavering. Therefore\, we are asking for your support in our Tickle Me Pink virtual fundraiser. This helps us make a meaningful difference in the lives of those we aim to support from becoming homeless. Contact Sharon to purchase your ticket.
LOCATION:Virtual
UID:e.492.13800
SEQUENCE:3
DTSTAMP:20260421T232606Z
URL:https://members.fredericksburgchamber.org/events/details/tickle-me-pink-fundraiser-13800
END:VEVENT

END:VCALENDAR
