BEGIN:VCALENDAR
VERSION:2.0
PRODID:-//ChamberMaster//Event Calendar 2.0//EN
METHOD:PUBLISH
X-PUBLISHED-TTL:P3D
REFRESH-INTERVAL:P3D
CALSCALE:GREGORIAN
BEGIN:VEVENT
DTSTART:20230805T150000Z
DTEND:20230805T190000Z
X-MICROSOFT-CDO-ALLDAYEVENT:FALSE
SUMMARY:TJ Klune Book Signing & LGBTQ Book Drive
DESCRIPTION:Join us on Saturday\, August 5\, 2023 from 11:00am-3:00pm for an LGBTQ Book Drive\, co-sponsored by Bookmobile FXBG @bookmobile.fxbg ???? Bring your new or gently used LGBTQ books to donate in contribution to the new LGBTQ Community Library located in the Pride Center. Have the opportunity to select a book from the Bookmobile to take home or donate non-LGBTQ books to them as well! Look forward to:  Special guest appearance by New York Times and USA Today bestselling\, Lamba Literary Award-winning queer author TJ Klune @ tjklunebooks ??  On-site food available from the delectable Will's Place Food Truck @willsplaceva ??  Locally produced small-batch homemade ice cream by Tilly's @tillyshomemadeicecream ??  Pride Center tours and preview of the new library space ??  Fun and friends! About your hosts: FAHASS @fahassfxbg and Pride Center FXBG @pridecenterfxbg (a division of FAHASS) is a private\, nonprofit organization whose mission is to positively impact individual and community health. Bookmobile FXBG @bookmobile.fxbg is a non-profit mobile library working to promote literacy in the greater Fredericksburg area.
X-ALT-DESC;FMTTYPE=text/html:Join us on Saturday\, August 5\, 2023 from 11:00am-3:00pm for an LGBTQ Book Drive\, co-sponsored by Bookmobile FXBG @bookmobile.fxbg ???? Bring your new or gently used LGBTQ books to donate in contribution to the new LGBTQ Community Library located in the Pride Center. Have the opportunity to select a book from the Bookmobile to take home or donate non-LGBTQ books to them as well! Look forward to: &bull\;Special guest appearance by New York Times and USA Today bestselling\, Lamba Literary Award-winning queer author TJ Klune @ tjklunebooks ?? &bull\;On-site food available from the delectable Will&rsquo\;s Place Food Truck @willsplaceva ?? &bull\;Locally produced small-batch homemade ice cream by Tilly&rsquo\;s @tillyshomemadeicecream ?? &bull\;Pride Center tours and preview of the new library space ?? &bull\;Fun and friends! About your hosts: FAHASS @fahassfxbg and Pride Center FXBG @pridecenterfxbg (a division of FAHASS) is a private\, nonprofit organization whose mission is to positively impact individual and community health. Bookmobile FXBG @bookmobile.fxbg is a non-profit mobile library working to promote literacy in the greater Fredericksburg area.
LOCATION:Pride Center FXBG 4343 Plank Road Fredericksburg\, VA 22408
UID:e.492.13636
SEQUENCE:3
DTSTAMP:20260422T024806Z
URL:https://members.fredericksburgchamber.org/events/details/tj-klune-book-signing-lgbtq-book-drive-13636
END:VEVENT

END:VCALENDAR
