BEGIN:VCALENDAR
VERSION:2.0
PRODID:-//ChamberMaster//Event Calendar 2.0//EN
METHOD:PUBLISH
X-PUBLISHED-TTL:P3D
REFRESH-INTERVAL:P3D
CALSCALE:GREGORIAN
BEGIN:VEVENT
DTSTART:20240518T130000Z
DTEND:20240518T160000Z
X-MICROSOFT-CDO-ALLDAYEVENT:FALSE
SUMMARY:Topside Federal Credit Union Shred Event
DESCRIPTION:Topside Federal Credit Union Shred Event \n\nMay 18th\, 9:00 am - 12:00 pm\n\nat our Massaponax Branch\n\n(9622 Patriot Highway)\n\n\n\nAcceptable Shredding Material: Papers\, Folders\, Paper Clips\, Staples\, Binder Clips\, Hanging File Folders.\n\n\n\nNon-Acceptable: Hard Drives\, Batteries\, Cell Phones\, Laptops\, CDs/DVD/Tapes\n\n\n\nWhen you arrive at our Massaponax Branch\, signage and employees will help direct you to the line. You will unload your items when it is your turn\, Once your shredding is complete\, you are welcome to make a donation to the Spotsylvania Schools Treasure House and we'll match your donations up to $250 (no worries\, this is optional).  \n\n\n\n* Personal Shredding Only\n\n* 4 Bag/Box Limit per Person.
X-ALT-DESC;FMTTYPE=text/html:Topside Federal Credit Union Shred Event&nbsp\;<br />\nMay 18th\, 9:00 am - 12:00 pm<br />\nat our Massaponax Branch<br />\n(9622 Patriot Highway)<br />\n<br />\nAcceptable Shredding Material: Papers\, Folders\, Paper Clips\, Staples\, Binder Clips\, Hanging File Folders.<br />\n<br />\nNon-Acceptable: Hard Drives\, Batteries\, Cell Phones\, Laptops\, CDs/DVD/Tapes<br />\n<br />\nWhen you arrive at our Massaponax Branch\, signage and employees will help direct you to the line. You will unload your items when it is your turn\, Once your shredding is complete\, you are welcome to make a donation to the Spotsylvania Schools Treasure House and we&#39\;ll match your donations up to $250 (no worries\, this is optional).&nbsp\;&nbsp\;<br />\n<br />\n* Personal Shredding Only<br />\n* 4 Bag/Box Limit per Person.&nbsp\;
LOCATION:9622 Patriot Hwy Fredericksburg\, VA 22407
UID:e.492.13526
SEQUENCE:3
DTSTAMP:20260422T071344Z
URL:https://members.fredericksburgchamber.org/events/details/topside-federal-credit-union-shred-event-05-06-2023-13526
END:VEVENT

END:VCALENDAR
