BEGIN:VCALENDAR
VERSION:2.0
PRODID:-//ChamberMaster//Event Calendar 2.0//EN
METHOD:PUBLISH
X-PUBLISHED-TTL:P3D
REFRESH-INTERVAL:P3D
CALSCALE:GREGORIAN
BEGIN:VEVENT
DTSTART:20230429T140000Z
DTEND:20230429T150000Z
X-MICROSOFT-CDO-ALLDAYEVENT:FALSE
SUMMARY:Tour the Fredericksburg Center for Advanced Technology (FredCAT) in Central Park
DESCRIPTION:We now offer monthly onsite tours of our Fredericksburg Center for Advanced Technology (FredCAT) in Central Park. The\n\nCenter is the site for our apprenticeship and skilled trades training programs including Electrical\, Heavy Equipment Operator\,\n\nHVAC\, and Plumbing.\n\nCome by and see for yourself all we have to offer. Register to attend.
X-ALT-DESC;FMTTYPE=text/html:We now offer monthly onsite tours of our Fredericksburg Center for Advanced Technology (FredCAT) in Central Park. The<br />\nCenter is the site for our apprenticeship and skilled trades training programs including Electrical\, Heavy Equipment Operator\,<br />\nHVAC\, and Plumbing.<br />\nCome by and see for yourself all we have to offer. Register to attend.
LOCATION:Fredericksburg Center for Advanced Technology (FredCAT) 1325 Central Park Blvd Fredericksburg\, VA 22401
UID:e.492.13399
SEQUENCE:3
DTSTAMP:20260422T085229Z
URL:https://members.fredericksburgchamber.org/events/details/tour-the-fredericksburg-center-for-advanced-technology-fredcat-in-central-park-04-29-2023-13399
END:VEVENT

END:VCALENDAR
