BEGIN:VCALENDAR
VERSION:2.0
PRODID:-//ChamberMaster//Event Calendar 2.0//EN
METHOD:PUBLISH
X-PUBLISHED-TTL:P3D
REFRESH-INTERVAL:P3D
CALSCALE:GREGORIAN
BEGIN:VEVENT
DTSTART:20250327T220000Z
DTEND:20250327T233000Z
X-MICROSOFT-CDO-ALLDAYEVENT:FALSE
SUMMARY:Transitioning to College Open House
DESCRIPTION:Open House: Transitioning to College\n\nMarch 27   6 p.m.   Virtual\n\nGetting ready for college? Whether you're a high school student planning to attend Germanna this summer or fall or a dual enrollment student looking for support\, our Open House is here to help.\n\nWe'll tackle:\n\n\n	How to request and navigate accommodations\n	Required documentation and available support services\n	College course structure and expectations\n	Collaboration with academic advisors\n	Our Summer Program for students eager to get a head start\n\n\nThis event is open to all students preparing for college\, including dual enrollment students. Don't miss this chance to get your questions answered and feel confident about your next steps.\n\nRegister to attend
X-ALT-DESC;FMTTYPE=text/html:<h2>Open House: Transitioning to College</h2>\n\n<h3>March 27 &middot\; 6 p.m. &middot\; Virtual</h3>\n\n<p>Getting ready for college? Whether you&rsquo\;re a high school student planning to attend Germanna this summer or fall or a&nbsp\;<a href="https://germanna.edu/node/48" style="box-sizing: border-box\; color: rgb(162\, 11\, 53)\; background-color: transparent\;">dual enrollment</a>&nbsp\;student looking for support\, our Open House is here to help.</p>\n\n<p>We&rsquo\;ll tackle:</p>\n\n<ul>\n	<li>How to request and navigate accommodations</li>\n	<li>Required documentation and available support services</li>\n	<li>College course structure and expectations</li>\n	<li>Collaboration with academic advisors</li>\n	<li>Our&nbsp\;<a href="https://germanna.edu/node/1027" style="box-sizing: border-box\; color: rgb(162\, 11\, 53)\; background-color: transparent\; text-decoration-line: none\;">Summer Program</a>&nbsp\;for students eager to get a head start</li>\n</ul>\n\n<p>This event is open to all students preparing for college\, including dual enrollment students. Don&rsquo\;t miss this chance to get your questions answered and feel confident about your next steps.</p>\n\n<div><a href="https://vccs.zoom.us/meeting/register/0B-LY5vyRwiotFBROC-U0w#/registration">Register to attend</a></div>\n
LOCATION:Online via Zoom
UID:e.492.14501
SEQUENCE:3
DTSTAMP:20260424T111727Z
URL:https://members.fredericksburgchamber.org/events/details/transitioning-to-college-open-house-03-27-2025-14501
END:VEVENT

END:VCALENDAR
