BEGIN:VCALENDAR
VERSION:2.0
PRODID:-//ChamberMaster//Event Calendar 2.0//EN
METHOD:PUBLISH
X-PUBLISHED-TTL:P3D
REFRESH-INTERVAL:P3D
CALSCALE:GREGORIAN
BEGIN:VEVENT
DTSTART:20210403T233000Z
DTEND:20210404T033000Z
X-MICROSOFT-CDO-ALLDAYEVENT:FALSE
SUMMARY:Trapt - Live In Concert
DESCRIPTION:The Groove Music Hall & Rappahannock Electric Cooperative present... TRAPT Saturday\, April 3\, 2021\, 07:30PM Tickets starting at $25.00! BUY TICKETS       https://bityl.co/4iIs
X-ALT-DESC;FMTTYPE=text/html:The Groove Music Hall &amp\; Rappahannock Electric Cooperative present... TRAPT Saturday\, April 3\, 2021\, 07:30PM Tickets starting at $25.00! BUY TICKETS &gt\; &gt\; &gt\; https://bityl.co/4iIs
LOCATION:The Groove Music Hall at Dominion Raceway
UID:e.492.11461
SEQUENCE:3
DTSTAMP:20260422T103840Z
URL:https://members.fredericksburgchamber.org/events/details/trapt-live-in-concert-11461
END:VEVENT

END:VCALENDAR
