BEGIN:VCALENDAR
VERSION:2.0
PRODID:-//ChamberMaster//Event Calendar 2.0//EN
METHOD:PUBLISH
X-PUBLISHED-TTL:P3D
REFRESH-INTERVAL:P3D
CALSCALE:GREGORIAN
BEGIN:VEVENT
DTSTART:20230221T150000Z
DTEND:20230221T190000Z
X-MICROSOFT-CDO-ALLDAYEVENT:FALSE
SUMMARY:Traveling BHM Museum at Germanna
DESCRIPTION:Fred Saffold III is the CEO and Founder of The True Black History Museum   A traveling Black History exhibit with artifacts dating from the late 1700s to the 21st century. The Museum was established to preserve the history of African American people and to educate others of the many great contributions that African Americans have made to mankind. The mission is to instill self-esteem and pride and to increase knowledge\, awareness\, cultural sensitivity\, and understanding of the historic experience of African Americans. The collection takes you on a journey through the African American experience and is comprised of over 1000 authentic artifacts\, with original documents from historic figures such as Booker T. Washington\, Mary McLeod Bethune\, George Washington Carver\, Rosa Parks\, Frederick Douglass\, Angela Davis\, President Barack Obama\, and many other great African Americans.
X-ALT-DESC;FMTTYPE=text/html:<p><span style="background-color:rgb(249\, 250\, 251)\; color:rgb(66\, 66\, 66)\; font-family:arial\; font-size:10pt">Fred Saffold III is the CEO and Founder of The True Black History Museum &ndash\; A traveling Black History exhibit with artifacts dating from the late 1700s to the 21st century. The Museum was established to preserve the history of African American people and to educate others of the many great contributions that African Americans have made to mankind. The mission is to instill self-esteem and pride and to increase knowledge\, awareness\, cultural sensitivity\, and understanding of the historic experience of African Americans. The collection takes you on a journey through the African American experience and is comprised of over 1000 authentic artifacts\, with original documents from historic figures such as Booker T. Washington\, Mary McLeod Bethune\, George Washington Carver\, Rosa Parks\, Frederick Douglass\, Angela Davis\, President Barack Obama\, and many other great African Americans.</span></p>\n
LOCATION:In-person Fredericksburg Area Campus\, SP2\, Lobby
UID:e.492.13412
SEQUENCE:3
DTSTAMP:20260422T115233Z
URL:https://members.fredericksburgchamber.org/events/details/traveling-bhm-museum-at-germanna-13412
END:VEVENT

END:VCALENDAR
