BEGIN:VCALENDAR
VERSION:2.0
PRODID:-//ChamberMaster//Event Calendar 2.0//EN
METHOD:PUBLISH
X-PUBLISHED-TTL:P3D
REFRESH-INTERVAL:P3D
CALSCALE:GREGORIAN
BEGIN:VEVENT
DTSTART:20231216T150000Z
DTEND:20231216T190000Z
X-MICROSOFT-CDO-ALLDAYEVENT:FALSE
SUMMARY:Turkeys & Toys Holiday Distribution
DESCRIPTION:This is the Fredericksburg Regional Food Bank's third annual holiday season distribution of turkeys and other food items\, along with toys\, to those who may benefit from having these additional resources to prepare holiday season meals and have a toy for their children. It is a free drive-through distribution of items and at least the first 500 families served during the distribution will receive a turkey for their family and a toy per child in the family. Other food items will be available until the drive-through line ends even if our supply of turkeys and toys may be exhausted before the event ends.
X-ALT-DESC;FMTTYPE=text/html:This is the Fredericksburg Regional Food Bank&#39\;s third annual holiday season distribution of turkeys and other food items\, along with toys\, to those who may benefit from having these additional resources to prepare holiday season meals and have a toy for their children. It is a free drive-through distribution of items and at least the first 500 families served during the distribution will receive a turkey for their family and a toy per child in the family. Other food items will be available until the drive-through line ends even if our supply of turkeys and toys may be exhausted before the event ends.
LOCATION:Virginia Credit Union Stadium\, Fredericksburg
UID:e.492.13776
SEQUENCE:3
DTSTAMP:20260421T232907Z
URL:https://members.fredericksburgchamber.org/events/details/turkeys-toys-holiday-distribution-13776
END:VEVENT

END:VCALENDAR
