BEGIN:VCALENDAR
VERSION:2.0
PRODID:-//ChamberMaster//Event Calendar 2.0//EN
METHOD:PUBLISH
X-PUBLISHED-TTL:P3D
REFRESH-INTERVAL:P3D
CALSCALE:GREGORIAN
BEGIN:VEVENT
DTSTART:20260307T003000Z
DTEND:20260307T023000Z
X-MICROSOFT-CDO-ALLDAYEVENT:FALSE
SUMMARY:UMW Men's Basketball - NCAA Tournament
DESCRIPTION:The University of Mary Washington will host the first and second rounds of the NCAA Division III Men's Basketball Tournament this weekend\, March 6 and 7\, in Fredericksburg\, Virginia. The UMW Eagles\, seeded fourth in the championship and entering postseason play with a 24 3 record\, will face Worcester State University on Friday at 7:30 p.m. The evening will begin with a 5:00 p.m. matchup between Worcester Polytechnic Institute and Amherst College. Winners from Friday's games will advance to a second round contest on Saturday at 7:30 p.m.\, with a berth in the Sweet 16 at stake.
X-ALT-DESC;FMTTYPE=text/html:The University of Mary Washington will host the first and second rounds of the NCAA Division III Men&rsquo\;s Basketball Tournament this weekend\, March 6 and 7\, in Fredericksburg\, Virginia. The UMW Eagles\, seeded fourth in the championship and entering postseason play with a 24&ndash\;3 record\, will face Worcester State University on Friday at 7:30 p.m. The evening will begin with a 5:00 p.m. matchup between Worcester Polytechnic Institute and Amherst College. Winners from Friday&rsquo\;s games will advance to a second round contest on Saturday at 7:30 p.m.\, with a berth in the Sweet 16 at stake.
LOCATION:University of Mary Washington\, Ron Rosner Arena
UID:e.492.15214
SEQUENCE:3
DTSTAMP:20260421T114127Z
URL:https://members.fredericksburgchamber.org/events/details/umw-men-s-basketball-ncaa-tournament-15214
END:VEVENT

END:VCALENDAR
