BEGIN:VCALENDAR
VERSION:2.0
PRODID:-//ChamberMaster//Event Calendar 2.0//EN
METHOD:PUBLISH
X-PUBLISHED-TTL:P3D
REFRESH-INTERVAL:P3D
CALSCALE:GREGORIAN
BEGIN:VEVENT
DTSTART:20251018T123000Z
DTEND:20251018T183000Z
X-MICROSOFT-CDO-ALLDAYEVENT:FALSE
SUMMARY:UMW Open House
DESCRIPTION:Join us for an Open House and get an overview on student life\, academic programs\, hear from our three Colleges\, and take a campus tour. We recommend these free programs for high school juniors and seniors and transfer students.
X-ALT-DESC;FMTTYPE=text/html:Join us for an Open House and get an overview on student life\, academic programs\, hear from our three Colleges\, and take a campus tour. We recommend these free programs for high school juniors and seniors and transfer students.
LOCATION:Univeristy of Mary Washington University Center 1301 College Ave.
UID:e.492.15018
SEQUENCE:3
DTSTAMP:20260421T193247Z
URL:https://members.fredericksburgchamber.org/events/details/umw-open-house-10-18-2025-15018
END:VEVENT

END:VCALENDAR
