BEGIN:VCALENDAR
VERSION:2.0
PRODID:-//ChamberMaster//Event Calendar 2.0//EN
METHOD:PUBLISH
X-PUBLISHED-TTL:P3D
REFRESH-INTERVAL:P3D
CALSCALE:GREGORIAN
BEGIN:VEVENT
DTSTART:20230411T120000Z
DTEND:20230411T130000Z
X-MICROSOFT-CDO-ALLDAYEVENT:FALSE
SUMMARY:UMW's Women's Colloquium Monthly Coffee Talk
DESCRIPTION:This event takes place monthly\, with themed discussions led by local leaders\, and all are welcome. Please join us in person! April's Coffee Talk will be led by Dr. Keyanna Hawkins\, Interim Director of Equity Advancement at Germanna Community College\, discussing the topic of Speaking Power Over Your Life. Networking is the best thing you can do for your own professional development! Share\, learn and grow from other professionals in the Fredericksburg area. Please Register Here     https://www.umw.edu/lcpw/coffee-talk/
X-ALT-DESC;FMTTYPE=text/html:This event takes place monthly\, with themed discussions led by local leaders\, and all are welcome. Please join us in person! April&#39\;s Coffee Talk will be led by Dr. Keyanna Hawkins\, Interim Director of Equity Advancement at Germanna Community College\, discussing the topic of Speaking Power Over Your Life. Networking is the best thing you can do for your own professional development! Share\, learn and grow from other professionals in the Fredericksburg area. Please Register Here &gt\; &gt\; https://www.umw.edu/lcpw/coffee-talk/
LOCATION:Kalnen Inn Living Room Jepson Alumni and Executive Center 1119 Hanover St\, Fredericksburg\, VA 22401 Street parking is available on Hanover Street
UID:e.492.13448
SEQUENCE:3
DTSTAMP:20260422T085058Z
URL:https://members.fredericksburgchamber.org/events/details/umw-s-women-s-colloquium-monthly-coffee-talk-13448
END:VEVENT

END:VCALENDAR
