BEGIN:VCALENDAR
VERSION:2.0
PRODID:-//ChamberMaster//Event Calendar 2.0//EN
METHOD:PUBLISH
X-PUBLISHED-TTL:P3D
REFRESH-INTERVAL:P3D
CALSCALE:GREGORIAN
BEGIN:VEVENT
DTSTART:20230323T140000Z
DTEND:20230323T190000Z
X-MICROSOFT-CDO-ALLDAYEVENT:FALSE
SUMMARY:UMW Spring 2023 Career Fair
DESCRIPTION:The Center for Career and Professional Development at the University of Mary Washington invites you to participate in our Spring 2023 Career & Internship Fair which will be held on Thursday\, March 23rd from 10 a.m. - 3 p.m. in the University Center\, Chandler Ballroom on the Fredericksburg campus. This fair offers you the opportunity to recruit high quality UMW students and alumni for your organization. The University of Mary Washington has selective admission standards and a curriculum that emphasizes writing\, public speaking\, and problem-solving skills. Our graduates make great employees and interns\, and this fair is the perfect forum for meeting many of them.
X-ALT-DESC;FMTTYPE=text/html:The Center for Career and Professional Development at the University of Mary Washington invites you to participate in our Spring 2023 Career &amp\; Internship Fair which will be held on Thursday\, March 23rd from 10 a.m. - 3 p.m. in the University Center\, Chandler Ballroom on the Fredericksburg campus. This fair offers you the opportunity to recruit high quality UMW students and alumni for your organization. The University of Mary Washington has selective admission standards and a curriculum that emphasizes writing\, public speaking\, and problem-solving skills. Our graduates make great employees and interns\, and this fair is the perfect forum for meeting many of them.
LOCATION:1301 College Ave\, Fredericksburg\, VA 22401
UID:e.492.13439
SEQUENCE:3
DTSTAMP:20260422T102641Z
URL:https://members.fredericksburgchamber.org/events/details/umw-spring-2023-career-fair-13439
END:VEVENT

END:VCALENDAR
