BEGIN:VCALENDAR
VERSION:2.0
PRODID:-//ChamberMaster//Event Calendar 2.0//EN
METHOD:PUBLISH
X-PUBLISHED-TTL:P3D
REFRESH-INTERVAL:P3D
CALSCALE:GREGORIAN
BEGIN:VEVENT
DTSTART:20220809T120000Z
DTEND:20220809T130000Z
X-MICROSOFT-CDO-ALLDAYEVENT:FALSE
SUMMARY:UMW Women's Colloquium August Coffee Talk
DESCRIPTION:This event takes place monthly\, with themed discussions led by local leaders\, and all are welcome. Please join us in person! August's Coffee Talk will be led by Jennifer Mackowski\, Property Manager & Event Coordinator\, Stevenson Ridge\, discussing Work Hard Play Hard. Celebrating your Achievements. Networking is the best thing you can do for your own professional development! Share\, learn and grow from other professionals in the Fredericksburg area.
X-ALT-DESC;FMTTYPE=text/html:This event takes place monthly\, with themed discussions led by local leaders\, and all are welcome. Please join us in person! August&#39\;s Coffee Talk will be led by Jennifer Mackowski\, Property Manager &amp\; Event Coordinator\, Stevenson Ridge\, discussing Work Hard Play Hard. Celebrating your Achievements. Networking is the best thing you can do for your own professional development! Share\, learn and grow from other professionals in the Fredericksburg area.
LOCATION:Jepson Alumni and Executive Center 1119 Hanover St\, Fredericksburg\, VA 22401 Street parking is available on Hanover Street.
UID:e.492.13053
SEQUENCE:3
DTSTAMP:20260422T212155Z
URL:https://members.fredericksburgchamber.org/events/details/umw-women-s-colloquium-august-coffee-talk-13053
END:VEVENT

END:VCALENDAR
