BEGIN:VCALENDAR
VERSION:2.0
PRODID:-//ChamberMaster//Event Calendar 2.0//EN
METHOD:PUBLISH
X-PUBLISHED-TTL:P3D
REFRESH-INTERVAL:P3D
CALSCALE:GREGORIAN
BEGIN:VEVENT
DTSTART:20230110T130000Z
DTEND:20230110T140000Z
X-MICROSOFT-CDO-ALLDAYEVENT:FALSE
SUMMARY:UMW Women’s Colloquium Monthly Coffee Talk
DESCRIPTION:This event takes place monthly\, with themed discussions led by local leaders\, and all are welcome. Please join us in person! January's Coffee Talk will be led by Beth Williams\, Executive Director for Human Resources at the University of Mary Washington\, discussing your vision for 2023! Networking is the best thing you can do for your own professional development! Share\, learn and grow from other professionals in the Fredericksburg area. Please Register Here     http://events.constantcontact.com/register/event?llr=jrfmz85ab&oeidk=a07ejl1wv94c491fd76
X-ALT-DESC;FMTTYPE=text/html:This event takes place monthly\, with themed discussions led by local leaders\, and all are welcome. Please join us in person! January&#39\;s Coffee Talk will be led by Beth Williams\, Executive Director for Human Resources at the University of Mary Washington\, discussing your vision for 2023! Networking is the best thing you can do for your own professional development! Share\, learn and grow from other professionals in the Fredericksburg area. Please Register Here &gt\; &gt\; http://events.constantcontact.com/register/event?llr=jrfmz85ab&amp\;oeidk=a07ejl1wv94c491fd76
LOCATION:Jepson Alumni Executive Center at UMW 1119 Hanover St\, Fredericksburg\, VA 22401 Street parking is available on Hanover Street.
UID:e.492.13358
SEQUENCE:3
DTSTAMP:20260422T134910Z
URL:https://members.fredericksburgchamber.org/events/details/umw-women-s-colloquium-monthly-coffee-talk-01-10-2023-13358
END:VEVENT

END:VCALENDAR
