BEGIN:VCALENDAR
VERSION:2.0
PRODID:-//ChamberMaster//Event Calendar 2.0//EN
METHOD:PUBLISH
X-PUBLISHED-TTL:P3D
REFRESH-INTERVAL:P3D
CALSCALE:GREGORIAN
BEGIN:VEVENT
DTSTART:20230214T130000Z
DTEND:20230214T140000Z
X-MICROSOFT-CDO-ALLDAYEVENT:FALSE
SUMMARY:UMW Women's Colloquium Monthly Coffee Talk
DESCRIPTION:This event takes place monthly\, with themed discussions led by local leaders\, and all are welcome. Please join us in person! February's Coffee Talk will be led by Kaisha McCrea\, Career & Leadership Coach and Consultant is the owner of Growing Perspectives Career Consulting LLC\, discussing Networking & Making it Work For You! Networking is the best thing you can do for your own professional development! Share\, learn and grow from other professionals in the Fredericksburg area.
X-ALT-DESC;FMTTYPE=text/html:This event takes place monthly\, with themed discussions led by local leaders\, and all are welcome. Please join us in person! February&#39\;s Coffee Talk will be led by Kaisha McCrea\, Career &amp\; Leadership Coach and Consultant is the owner of Growing Perspectives Career Consulting LLC\, discussing Networking &amp\; Making it Work For You! Networking is the best thing you can do for your own professional development! Share\, learn and grow from other professionals in the Fredericksburg area.
LOCATION:Kalnen Inn Living Room Jepson Alumni and Executive Center 1119 Hanover St\, Fredericksburg\, VA 22401 Street parking is available on Hanover Street
UID:e.492.13379
SEQUENCE:3
DTSTAMP:20260422T115731Z
URL:https://members.fredericksburgchamber.org/events/details/umw-women-s-colloquium-monthly-coffee-talk-02-14-2023-13379
END:VEVENT

END:VCALENDAR
