BEGIN:VCALENDAR
VERSION:2.0
PRODID:-//ChamberMaster//Event Calendar 2.0//EN
METHOD:PUBLISH
X-PUBLISHED-TTL:P3D
REFRESH-INTERVAL:P3D
CALSCALE:GREGORIAN
BEGIN:VEVENT
DTSTART:20221213T130000Z
DTEND:20221213T140000Z
X-MICROSOFT-CDO-ALLDAYEVENT:FALSE
SUMMARY:UMW Women's Colloquium Monthly Coffee Talk
DESCRIPTION:This event takes place monthly\, with themed discussions led by local leaders\, and all are welcome. Please join us in person! December's Coffee Talk will be led by Janel Donohue\, President\, Rappahannock United Way\, discussing Celebrating your Excellence! Networking is the best thing you can do for your own professional development! Share\, learn and grow from other professionals in the Fredericksburg area.
X-ALT-DESC;FMTTYPE=text/html:This event takes place monthly\, with themed discussions led by local leaders\, and all are welcome. Please join us in person! December&#39\;s Coffee Talk will be led by Janel Donohue\, President\, Rappahannock United Way\, discussing Celebrating your Excellence! Networking is the best thing you can do for your own professional development! Share\, learn and grow from other professionals in the Fredericksburg area.
LOCATION:Jepson Alumni and Executive Center 1119 Hanover St\, Fredericksburg\, VA 22401 Street parking is available on Hanover Street.
UID:e.492.13220
SEQUENCE:3
DTSTAMP:20260422T152234Z
URL:https://members.fredericksburgchamber.org/events/details/umw-women-s-colloquium-monthly-coffee-talk-12-13-2022-13220
END:VEVENT

END:VCALENDAR
