BEGIN:VCALENDAR
VERSION:2.0
PRODID:-//ChamberMaster//Event Calendar 2.0//EN
METHOD:PUBLISH
X-PUBLISHED-TTL:P3D
REFRESH-INTERVAL:P3D
CALSCALE:GREGORIAN
BEGIN:VEVENT
DTSTART:20240409T120000Z
DTEND:20240409T130000Z
X-MICROSOFT-CDO-ALLDAYEVENT:FALSE
SUMMARY:UMW Women's Leadership Colloquium April Coffee Talk
DESCRIPTION:Join us at April's Coffee Talk as we discuss the topic of Rising Strong: Navigating Life's Challenges with Resilience. We all face challenges and adversity in our lives\, and it can feel difficult (sometimes impossible) to pick ourselves up and push through after a setback. In this session\, we'll discuss how to recover our strength and faith in ourselves in order to navigate life's challenges with resilience! This Coffee Talk will be led by Retta Young\, Owner & Senior Advisor\, Associated Living Locators.
X-ALT-DESC;FMTTYPE=text/html:Join us at April&rsquo\;s Coffee Talk as we discuss the topic of Rising Strong: Navigating Life&rsquo\;s Challenges with Resilience. We all face challenges and adversity in our lives\, and it can feel difficult (sometimes impossible) to pick ourselves up and push through after a setback. In this session\, we&rsquo\;ll discuss how to recover our strength and faith in ourselves in order to navigate life&rsquo\;s challenges with resilience! This Coffee Talk will be led by Retta Young\, Owner &amp\; Senior Advisor\, Associated Living Locators.
LOCATION:718 Venue\, 718 Caroline Street\, Fredericksburg\, VA 22401
UID:e.492.13932
SEQUENCE:3
DTSTAMP:20260422T071139Z
URL:https://members.fredericksburgchamber.org/events/details/umw-women-s-leadership-colloquium-april-coffee-talk-13932
END:VEVENT

END:VCALENDAR
