BEGIN:VCALENDAR
VERSION:2.0
PRODID:-//ChamberMaster//Event Calendar 2.0//EN
METHOD:PUBLISH
X-PUBLISHED-TTL:P3D
REFRESH-INTERVAL:P3D
CALSCALE:GREGORIAN
BEGIN:VEVENT
DTSTART:20230912T120000Z
DTEND:20230912T130000Z
X-MICROSOFT-CDO-ALLDAYEVENT:FALSE
SUMMARY:UMW Women's Leadership Colloquium September Coffee Talk
DESCRIPTION:Join us at September's Coffee Talk as we delve into Imposter Syndrome - the condition of feeling anxious and not experiencing success internally\, despite being high-performing in external\, objective ways. Discover how this psychological phenomenon affects many accomplished women\, undermining their self-confidence and hindering professional growth. Together we'll explore practical strategies to overcome Imposter Syndrome\, empowering each other to embrace our achievements\, unlock our full potential\, and thrive in our diverse endeavors. September's Coffee Talk will be led by Dr. Alexandra Dunn\, Assistant Professor of Management at the University of Mary Washington.
X-ALT-DESC;FMTTYPE=text/html:Join us at September&#39\;s Coffee Talk as we delve into Imposter Syndrome - the condition of feeling anxious and not experiencing success internally\, despite being high-performing in external\, objective ways. Discover how this psychological phenomenon affects many accomplished women\, undermining their self-confidence and hindering professional growth. Together we&#39\;ll explore practical strategies to overcome Imposter Syndrome\, empowering each other to embrace our achievements\, unlock our full potential\, and thrive in our diverse endeavors. September&#39\;s Coffee Talk will be led by Dr. Alexandra Dunn\, Assistant Professor of Management at the University of Mary Washington.
LOCATION:University of Mary Washington - Jepson Alumni & Executive Center
UID:e.492.13670
SEQUENCE:3
DTSTAMP:20260422T010853Z
URL:https://members.fredericksburgchamber.org/events/details/umw-women-s-leadership-colloquium-september-coffee-talk-13670
END:VEVENT

END:VCALENDAR
