BEGIN:VCALENDAR
VERSION:2.0
PRODID:-//ChamberMaster//Event Calendar 2.0//EN
METHOD:PUBLISH
X-PUBLISHED-TTL:P3D
REFRESH-INTERVAL:P3D
CALSCALE:GREGORIAN
BEGIN:VEVENT
DTSTART:20260714T130000Z
DTEND:20260714T163000Z
X-MICROSOFT-CDO-ALLDAYEVENT:FALSE
SUMMARY:Understanding Employment Regulations
DESCRIPTION:Understanding Employment Regulations\n\n\n\n\n\nJul\n\n14\n\n2026\n\n\n\n\nTue\, Jul 14 9:00 AM to 12:30 PM\n\nAdd to Google Calendar | Outlook Calendar | Apple Calendar\n\n\n\n\nOnline\nFacilitated by the University of Mary Washington SBDC\n\n\n\n\nTopic:\n\nManaging Employees\n\n\nThe speaker\, Randy Sparks\, Jr.\, will address basic human resource topics that all business owners should be familiar with. In these uncertain times\, it is more important than ever to stay in compliance with Virginia and federal labor regulations. To ensure that your business is compliant\, please join us for "Understanding Employment Regulations."\n\nTopics Covered:\n\n\n	What information can I request in an application or during an interview?\n	Are my workers employees or independent contractors?\n	What documentation must I keep and for how long?\n	Can I make my employees sign non-compete and non-disclosure agreements?\n	How can I fire an employee without having to pay unemployment compensation?\n	What am I required to do to insure employee safety from coronavirus?\n\n\n\n \n\nSpeaker(s):\n\nRandy Sparks\, Jr.\n\n\n\nRandy Sparks\, Jr. is a member of the Labor and Employment Law Practice Group at Kaufman & Canoles. He concentrates his practice in employment litigation\, representing employers in employment discrimination\, sexual harassment\, breach of employment contract\, non-compete\, and wage and hour claims before various state and federal courts and administrative agencies. Randy also advises and trains clients on lawful employment practices and other workplace issues.\n\n\n\nFor further assistance\, contact the office at (540) 654-1383\n\nFee: $ 30.00\n\nClick continue to pay\n\nRegister Online
X-ALT-DESC;FMTTYPE=text/html:<h1>Understanding Employment Regulations</h1>\n\n<div>\n<div>\n<div>\n<div style="text-align:center">\n<div>Jul</div>\n\n<div>14</div>\n\n<div>2026</div>\n</div>\n</div>\n\n<div>\n<div>Tue\, Jul 14 9:00 AM to 12:30 PM</div>\n\n<div>Add to&nbsp\;<a href="https://clients.virginiasbdc.org/eventcal?type=google&amp\;e=140460014">Google Calendar</a>&nbsp\;|&nbsp\;<a href="https://clients.virginiasbdc.org/eventcal?e=140460014">Outlook Calendar</a>&nbsp\;|&nbsp\;<a href="https://clients.virginiasbdc.org/eventcal?e=140460014">Apple Calendar</a></div>\n</div>\n</div>\n</div>\n\n<div>Online\n<div>Facilitated by the&nbsp\;<a href="https://clients.virginiasbdc.org/center.aspx?center=46140">University of Mary Washington SBDC</a></div>\n</div>\n\n<div><br />\n<strong>Topic</strong>:<br />\nManaging Employees</div>\n\n<div>\n<p>The speaker\, Randy Sparks\, Jr.\, will address basic human resource topics that all business owners should be familiar with. In these uncertain times\, it is more important than ever to stay in compliance with Virginia and federal labor regulations. To ensure that your business is compliant\, please join us for &quot\;Understanding Employment Regulations.&quot\;</p>\n\n<p><strong>Topics Covered:</strong></p>\n\n<ul>\n	<li>What information can I request in an application or during an interview?</li>\n	<li>Are my workers employees or independent contractors?</li>\n	<li>What documentation must I keep and for how long?</li>\n	<li>Can I make my employees sign non-compete and non-disclosure agreements?</li>\n	<li>How can I fire an employee without having to pay unemployment compensation?</li>\n	<li>What am I required to do to insure employee safety from coronavirus?</li>\n</ul>\n</div>\n\n<p>&nbsp\;</p>\n\n<p><strong>Speaker(s):</strong><br />\nRandy Sparks\, Jr.<br />\n<br />\nRandy Sparks\, Jr. is a member of the Labor and Employment Law Practice Group at Kaufman &amp\; Canoles. He concentrates his practice in employment litigation\, representing employers in employment discrimination\, sexual harassment\, breach of employment contract\, non-compete\, and wage and hour claims before various state and federal courts and administrative agencies. Randy also advises and trains clients on lawful employment practices and other workplace issues.<br />\n<br />\nFor further assistance\, contact the office at (540) 654-1383</p>\n\n<p>Fee: $ 30.00</p>\n\n<p>Click continue to pay</p>\n\n<div><a class="cdeventreg" href="https://clients.virginiasbdc.org/reg.aspx?mode=event&amp\;event=140460014" rel="nofollow" style="padding: 0.8rem 2rem\; font-size: 1.2rem\; display: inline-block\; margin-bottom: 0.5em\; background-color: rgb(0\, 64\, 117) !important\; color: white !important\;">Register Online</a></div>\n
LOCATION:Online
UID:e.492.15375
SEQUENCE:3
DTSTAMP:20260421T175150Z
URL:https://members.fredericksburgchamber.org/events/details/understanding-employment-regulations-07-14-2026-15375
END:VEVENT

END:VCALENDAR
