BEGIN:VCALENDAR
VERSION:2.0
PRODID:-//ChamberMaster//Event Calendar 2.0//EN
METHOD:PUBLISH
X-PUBLISHED-TTL:P3D
REFRESH-INTERVAL:P3D
CALSCALE:GREGORIAN
BEGIN:VEVENT
DTSTART:20231017T130000Z
DTEND:20231017T163000Z
X-MICROSOFT-CDO-ALLDAYEVENT:FALSE
SUMMARY:Understanding Employment Regulations
DESCRIPTION:The speaker\, Randy Sparks\, Jr.\, will address basic human resource topics that all business owners should be familiar with. It is more important than ever to stay in compliance with Virginia and federal labor regulations. To ensure that your business is compliant\, please join us for "Understanding Employment Regulations." Topics Covered: - What information can I request in an application or during an interview? - Are my workers employees or independent contractors? - What documentation must I keep and for how long? - Can I make my employees sign non-compete and non-disclosure agreements? - How can I fire an employee without having to pay unemployment compensation? - What am I required to do to insure employee safety from coronavirus? This class is being offered in a hybrid format. After you have registered and paid for the class you will receive an email requesting the type of attendance. Please reply to this email as soon as possible so that we can plan for the number of people who will be attending in person.
X-ALT-DESC;FMTTYPE=text/html:The speaker\, Randy Sparks\, Jr.\, will address basic human resource topics that all business owners should be familiar with. It is more important than ever to stay in compliance with Virginia and federal labor regulations. To ensure that your business is compliant\, please join us for &quot\;Understanding Employment Regulations.&quot\; Topics Covered: - What information can I request in an application or during an interview? - Are my workers employees or independent contractors? - What documentation must I keep and for how long? - Can I make my employees sign non-compete and non-disclosure agreements? - How can I fire an employee without having to pay unemployment compensation? - What am I required to do to insure employee safety from coronavirus? This class is being offered in a hybrid format. After you have registered and paid for the class you will receive an email requesting the type of attendance. Please reply to this email as soon as possible so that we can plan for the number of people who will be attending in person.
LOCATION:Hybrid: offered both in person and online. In person address is 1125 Emancipation Hwy\, Suite 400\, Fredericksburg\, VA 22401
UID:e.492.13710
SEQUENCE:3
DTSTAMP:20260422T005240Z
URL:https://members.fredericksburgchamber.org/events/details/understanding-employment-regulations-10-17-2023-13710
END:VEVENT

END:VCALENDAR
