BEGIN:VCALENDAR
VERSION:2.0
PRODID:-//ChamberMaster//Event Calendar 2.0//EN
METHOD:PUBLISH
X-PUBLISHED-TTL:P3D
REFRESH-INTERVAL:P3D
CALSCALE:GREGORIAN
BEGIN:VEVENT
DTSTART:20260519T160000Z
DTEND:20260519T170000Z
X-MICROSOFT-CDO-ALLDAYEVENT:FALSE
SUMMARY:Understanding Personal Credit--Virtual Lunch and Learn
DESCRIPTION:Understanding Personal Credit--Virtual Lunch and Learn\n\n\n\n\n\nMay\n\n19\n\n2026\n\n\n\n\nTue\, May 19\, 12:00 PM to 1:00 PM\n\nAdd to Google Calendar | Outlook Calendar | Apple Calendar\n\n\n\n\n University of Mary Washington SBDC\n\n \n\nUnderstanding your personal credit can be daunting\, but it is also an integral factor to the success of your small business. Join us for a Lunch & Learn event where we teach you:   Why Business lenders care about your Personal Credit   The difference between a credit report and a credit score   How your credit score affects getting credit\, buying a business\, or establishing vendor relationships   What factors positively and negatively impact your credit and how to maintain good credit   The importance of reviewing credit reports regularly and how to request free reports annually\n\nSpeaker(s):\n\n\n	Cheryl Macy\, Community Event Specialist III\, Bank Officer\, C&F Bank\n	\n		Cheryl has over 20 years' experience in the financial industry. She began her banking career as a teller and worked her way up to a Branch Manager. For the past 9 years\, she has been in the Marketing department at C&F Bank. She is passionate about serving the community and educating consumers about credit!\n	\n	\n	Katey Burgess\, Universal Banker II\, C&F Bank\n	\n		Katey has over 8 years of experience as a banker and combined 12 years of small business ownership. Katey's drive comes from her love of community and small business\, and she combines her entrepreneurial spirit with her credit knowledge to give her customers the solid foundation they need to overcome financial obstacles and thrive.\n	\n	\n\n\nBy registering for this seminar\, you grant UMW SBDC permission to share your contact information with the speaker. If you need further assistance or have a question\, please contact us at (540) 654-1383\n\nFee: No Cost\n\nRegister Online\n\nAlready Registered? Sign in for more information.\n\n\n\n\nPhone: (540) 654-1383\n\nEmail: sbdc@umw.edu\n\n\n\n\nLocation\n\n\nUniversity of Mary Washington SBDC\n\n \n\n1125 Emancipation Highway\, Suite 400\, Fredericksburg\, VA 22401
X-ALT-DESC;FMTTYPE=text/html:<div>\n<h1>Understanding Personal Credit--Virtual Lunch and Learn</h1>\n\n<div>\n<div>\n<div>\n<div style="text-align:center">\n<div>May</div>\n\n<div>19</div>\n\n<div>2026</div>\n</div>\n</div>\n\n<div>\n<div>Tue\, May 19\, 12:00 PM to 1:00 PM</div>\n\n<div>Add to&nbsp\;<a href="https://clients.virginiasbdc.org/eventcal?type=google&amp\;e=140460021">Google Calendar</a>&nbsp\;|&nbsp\;<a href="https://clients.virginiasbdc.org/eventcal?e=140460021">Outlook Calendar</a>&nbsp\;|&nbsp\;<a href="https://clients.virginiasbdc.org/eventcal?e=140460021">Apple Calendar</a></div>\n</div>\n</div>\n</div>\n\n<div><a href="https://clients.virginiasbdc.org/center.aspx?center=46140&amp\;subloc=0">&nbsp\;<strong>University of Mary Washington SBDC</strong></a></div>\n\n<div>&nbsp\;</div>\n\n<p>Understanding your personal credit can be daunting\, but it is also an integral factor to the success of your small business. Join us for a Lunch &amp\; Learn event where we teach you: &bull\; Why Business lenders care about your Personal Credit &bull\; The difference between a credit report and a credit score &bull\; How your credit score affects getting credit\, buying a business\, or establishing vendor relationships &bull\; What factors positively and negatively impact your credit and how to maintain good credit &bull\; The importance of reviewing credit reports regularly and how to request free reports annually</p>\n\n<p><strong>Speaker(s):</strong></p>\n\n<ul>\n	<li>Cheryl Macy\, Community Event Specialist III\, Bank Officer\, C&amp\;F Bank\n	<ul>\n		<li>Cheryl has over 20 years&rsquo\; experience in the financial industry. She began her banking career as a teller and worked her way up to a Branch Manager. For the past 9 years\, she has been in the Marketing department at C&amp\;F Bank. She is passionate about serving the community and educating consumers about credit!</li>\n	</ul>\n	</li>\n	<li>Katey Burgess\, Universal Banker II\, C&amp\;F Bank\n	<ul>\n		<li>Katey has over 8 years of experience as a banker and combined 12 years of small business ownership. Katey&rsquo\;s drive comes from her love of community and small business\, and she combines her entrepreneurial spirit with her credit knowledge to give her customers the solid foundation they need to overcome financial obstacles and thrive.</li>\n	</ul>\n	</li>\n</ul>\n\n<p>By registering for this seminar\, you grant UMW SBDC permission to share your contact information with the speaker. If you need further assistance or have a question\, please contact us at (540) 654-1383</p>\n\n<p>Fee: No Cost</p>\n\n<div><a class="cdeventreg" href="https://clients.virginiasbdc.org/reg.aspx?mode=event&amp\;event=140460021" rel="nofollow" style="padding: 0.8rem 2rem\; font-size: 1.2rem\; display: inline-block\; margin-bottom: 0.5em\; background-color: rgb(0\, 64\, 117) !important\; color: white !important\;">Register Online</a></div>\n\n<div>Already Registered?&nbsp\;<a href="https://clients.virginiasbdc.org/reg.aspx?mode=signin&amp\;origurl=workshop.aspx%3fekey%3d140460021" rel="nofollow">Sign in</a>&nbsp\;for more information.</div>\n</div>\n\n<div>\n<div>\n<div>Phone: (540) 654-1383</div>\n\n<div>Email:&nbsp\;<a href="mailto:sbdc@umw.edu?subject=Understanding%20Personal%20Credit--Virtual%20Lunch%20and%20Learn%205%2F19%2F2026">sbdc@umw.edu</a></div>\n</div>\n</div>\n\n<div>\n<h2>Location</h2>\n\n<div>\n<div>University of Mary Washington SBDC</div>\n\n<div>&nbsp\;</div>\n\n<div>1125 Emancipation Highway\, Suite 400\, Fredericksburg\, VA 22401</div>\n</div>\n</div>\n
LOCATION:1125 Emancipation Highway Suite 400 Fredericksburg\, VA 22401
UID:e.492.15379
SEQUENCE:3
DTSTAMP:20260421T235656Z
URL:https://members.fredericksburgchamber.org/events/details/understanding-personal-credit-virtual-lunch-and-learn-15379
END:VEVENT

END:VCALENDAR
