BEGIN:VCALENDAR
VERSION:2.0
PRODID:-//ChamberMaster//Event Calendar 2.0//EN
METHOD:PUBLISH
X-PUBLISHED-TTL:P3D
REFRESH-INTERVAL:P3D
CALSCALE:GREGORIAN
BEGIN:VEVENT
DTSTART:20230628T160000Z
DTEND:20230628T170000Z
X-MICROSOFT-CDO-ALLDAYEVENT:FALSE
SUMMARY:Understanding your Personal Credit
DESCRIPTION:Understanding your personal credit can be daunting\, but it is also an integral factor to the success of your small business. Join us for a Lunch & Learn event where we teach you:   Why Business lenders care about your Personal Credit   The difference between a credit report and a credit score   How your credit score affects getting credit\, buying a business\, or establishing vendor relationships   What factors positively and negatively impact your credit and how to maintain good credit   The importance of reviewing credit reports regularly and how to request free reports annually Lunch will be provided by C&F Bank. Registration will close one week before the event in order to give us time to order food for the event. Register early and save your seat for our first fully in person event! By registering for this seminar\, you grant UMW SBDC permission to share your contact information with the speaker.
X-ALT-DESC;FMTTYPE=text/html:Understanding your personal credit can be daunting\, but it is also an integral factor to the success of your small business. Join us for a Lunch &amp\; Learn event where we teach you: &bull\; Why Business lenders care about your Personal Credit &bull\; The difference between a credit report and a credit score &bull\; How your credit score affects getting credit\, buying a business\, or establishing vendor relationships &bull\; What factors positively and negatively impact your credit and how to maintain good credit &bull\; The importance of reviewing credit reports regularly and how to request free reports annually Lunch will be provided by C&amp\;F Bank. Registration will close one week before the event in order to give us time to order food for the event. Register early and save your seat for our first fully in person event! By registering for this seminar\, you grant UMW SBDC permission to share your contact information with the speaker.
LOCATION:UMW Center for Economic Development 1125 Emancipation Hwy Suite 400 Fredericksburg\, VA 22401
UID:e.492.13574
SEQUENCE:3
DTSTAMP:20260422T070444Z
URL:https://members.fredericksburgchamber.org/events/details/understanding-your-personal-credit-13574
END:VEVENT

END:VCALENDAR
