BEGIN:VCALENDAR
VERSION:2.0
PRODID:-//ChamberMaster//Event Calendar 2.0//EN
METHOD:PUBLISH
X-PUBLISHED-TTL:P3D
REFRESH-INTERVAL:P3D
CALSCALE:GREGORIAN
BEGIN:VEVENT
DTSTART:20251009T200000Z
DTEND:20251009T220000Z
X-MICROSOFT-CDO-ALLDAYEVENT:FALSE
SUMMARY:Unlock Your AI Potential Networking Event
DESCRIPTION:Join us for an exciting NETWORKING EVENT AND Learn HOW AI Can improve your workflow!\nGUEST SPEAKER:\n\nFOUNDER OF LEARNAIID\, PAGE DURHAM
X-ALT-DESC;FMTTYPE=text/html:<strong>Join us for an exciting NETWORKING EVENT AND Learn HOW AI Can improve your workflow!</strong>\n<p><em>GUEST SPEAKER:</em></p>\n\n<p><strong>FOUNDER OF LEARNAIID\, PAGE DURHAM</strong></p>\n
LOCATION:1 Towne Centre Blvd.\, Suite 2500\, Fredericksburg\, VA 22407
UID:e.492.15013
SEQUENCE:3
DTSTAMP:20260421T193052Z
URL:https://members.fredericksburgchamber.org/events/details/unlock-your-ai-potential-networking-event-15013
END:VEVENT

END:VCALENDAR
