BEGIN:VCALENDAR
VERSION:2.0
PRODID:-//ChamberMaster//Event Calendar 2.0//EN
METHOD:PUBLISH
X-PUBLISHED-TTL:P3D
REFRESH-INTERVAL:P3D
CALSCALE:GREGORIAN
BEGIN:VEVENT
DTSTART:20240311T123000Z
DTEND:20240311T170000Z
X-MICROSOFT-CDO-ALLDAYEVENT:FALSE
SUMMARY:V-TOP Workshop: Developing Our Workforce Through Internships
DESCRIPTION:Join us for a free\, half-day workshop designed to help local organizations learn how to develop high-quality\, mutually beneficial internship experiences\, satisfy the training prerequisite to qualify for state-funded support for creating or expanding an internship program\, and network over lunch.
X-ALT-DESC;FMTTYPE=text/html:Join us for a free\, half-day workshop designed to help local organizations learn how to develop high-quality\, mutually beneficial internship experiences\, satisfy the training prerequisite to qualify for state-funded support for creating or expanding an internship program\, and network over lunch.
LOCATION:University of Mary Washington Dahlgren Campus
UID:e.492.13872
SEQUENCE:3
DTSTAMP:20260422T035237Z
URL:https://members.fredericksburgchamber.org/events/details/v-top-workshop-developing-our-workforce-through-internships-03-11-2024-13872
END:VEVENT

END:VCALENDAR
