BEGIN:VCALENDAR
VERSION:2.0
PRODID:-//ChamberMaster//Event Calendar 2.0//EN
METHOD:PUBLISH
X-PUBLISHED-TTL:P3D
REFRESH-INTERVAL:P3D
CALSCALE:GREGORIAN
BEGIN:VEVENT
DTSTART:20231211T133000Z
DTEND:20231211T180000Z
X-MICROSOFT-CDO-ALLDAYEVENT:FALSE
SUMMARY:V-TOP Workshop: Developing our Workforce Through Internships
DESCRIPTION:The Virginia Talent + Opportunity Partnership (V-TOP) is a workforce development accelerator that provides students and businesses with resources to optimize the mutual benefits of work-based learning. Our local V-TOP representative\, the Rappahannock Work and Learn Collaborative\, is offering a free\, half-day workshop designed to help organizations learn how to develop high-quality\, mutually beneficial internship experiences\, satisfy the training prerequisite to qualify for state-funded support for creating or expanding an internship program\, and network over lunch. This workshop will be most beneficial for organizations in GO Virginia Region 6 (Fredericksburg\, Middle Peninsula\, and Northern Neck areas) that are registered with the State Corporation Commission\, have been in business for 3 or more years (or\, if less\, mentored/incubated by a recognized entity)\, have fewer than 250 employees\, and are not government agencies.
X-ALT-DESC;FMTTYPE=text/html:The Virginia Talent + Opportunity Partnership (V-TOP) is a workforce development accelerator that provides students and businesses with resources to optimize the mutual benefits of work-based learning. Our local V-TOP representative\, the Rappahannock Work and Learn Collaborative\, is offering a free\, half-day workshop designed to help organizations learn how to develop high-quality\, mutually beneficial internship experiences\, satisfy the training prerequisite to qualify for state-funded support for creating or expanding an internship program\, and network over lunch. This workshop will be most beneficial for organizations in GO Virginia Region 6 (Fredericksburg\, Middle Peninsula\, and Northern Neck areas) that are registered with the State Corporation Commission\, have been in business for 3 or more years (or\, if less\, mentored/incubated by a recognized entity)\, have fewer than 250 employees\, and are not government agencies.
LOCATION:University of Mary Washington Stafford Campus: 125 University Boulevard\, Fredericksburg\, VA 22406
UID:e.492.13755
SEQUENCE:3
DTSTAMP:20260421T232202Z
URL:https://members.fredericksburgchamber.org/events/details/v-top-workshop-developing-our-workforce-through-internships-12-11-2023-13755
END:VEVENT

END:VCALENDAR
