BEGIN:VCALENDAR
VERSION:2.0
PRODID:-//ChamberMaster//Event Calendar 2.0//EN
METHOD:PUBLISH
X-PUBLISHED-TTL:P3D
REFRESH-INTERVAL:P3D
CALSCALE:GREGORIAN
BEGIN:VEVENT
DTSTART:20230420T220000Z
DTEND:20230421T000000Z
X-MICROSOFT-CDO-ALLDAYEVENT:FALSE
SUMMARY:VA Loans
DESCRIPTION:?Learn everything about your VA benefits and how to apply for your VA loans for FREE!? Located at Quantico Cyber Hub on April 20\, 2023\, Join our team at Cyber Bytes Foundation from 6-8PM as we learn: ? How the VA Home Loan Works ? How to Qualify for your VA Benefits ? How to build wealth with your VA Benefits ? The advantages of a VA Loan ? The current real estate market in your area ? How to use your VA Loan MULTIPLE times This course is FREE to take so don't miss your chance to join in on the fun and learn more about what YOU can do with your VA Benefits.
X-ALT-DESC;FMTTYPE=text/html:?Learn everything about your VA benefits and how to apply for your VA loans for FREE!? Located at Quantico Cyber Hub on April 20\, 2023\, Join our team at Cyber Bytes Foundation from 6-8PM as we learn: ? How the VA Home Loan Works ? How to Qualify for your VA Benefits ? How to build wealth with your VA Benefits ? The advantages of a VA Loan ? The current real estate market in your area ? How to use your VA Loan MULTIPLE times This course is FREE to take so don&rsquo\;t miss your chance to join in on the fun and learn more about what YOU can do with your VA Benefits.
LOCATION:1010 Corporate Dr.\, Stafford
UID:e.492.13480
SEQUENCE:3
DTSTAMP:20260422T084214Z
URL:https://members.fredericksburgchamber.org/events/details/va-loans-13480
END:VEVENT

END:VCALENDAR
