BEGIN:VCALENDAR
VERSION:2.0
PRODID:-//ChamberMaster//Event Calendar 2.0//EN
METHOD:PUBLISH
X-PUBLISHED-TTL:P3D
REFRESH-INTERVAL:P3D
CALSCALE:GREGORIAN
BEGIN:VEVENT
DTSTART:20240216T220000Z
DTEND:20240217T040000Z
X-MICROSOFT-CDO-ALLDAYEVENT:FALSE
SUMMARY:Valentine Dueling Piano Dinner Night
DESCRIPTION:Friday February 16th grab your date and experience a Valentine Dueling Piano Dinner Night in the Groove Music Hall with a special menu from the 118 Bar and Grill at Dominion Raceway and an epic show from Felix and Fingers Dueling Pianos . ? Felix and Fingers Dueling Pianos is a high energy\, all request sing along show for all ages. This interactive act brings together music and comedy for a night you'll be laughing about for weeks! From John Lennon to John Legend\, Beach Boys to Beastie Boys\, Felix and Fingers will play anything. Come ready with your favorite requests and prepare to laugh\, sing\, and dance with this one of a kind dueling pianos show.
X-ALT-DESC;FMTTYPE=text/html:Friday February 16th grab your date and experience a Valentine Dueling Piano Dinner Night in the Groove Music Hall with a special menu from the 118 Bar and Grill at Dominion Raceway and an epic show from Felix and Fingers Dueling Pianos . ? Felix and Fingers Dueling Pianos is a high energy\, all request sing along show for all ages. This interactive act brings together music and comedy for a night you&#39\;ll be laughing about for weeks! From John Lennon to John Legend\, Beach Boys to Beastie Boys\, Felix and Fingers will play anything. Come ready with your favorite requests and prepare to laugh\, sing\, and dance with this one of a kind dueling pianos show.
LOCATION:The Groove Music Hall at Dominion Raceway
UID:e.492.13860
SEQUENCE:3
DTSTAMP:20260422T040359Z
URL:https://members.fredericksburgchamber.org/events/details/valentine-dueling-piano-dinner-night-13860
END:VEVENT

END:VCALENDAR
