BEGIN:VCALENDAR
VERSION:2.0
PRODID:-//ChamberMaster//Event Calendar 2.0//EN
METHOD:PUBLISH
X-PUBLISHED-TTL:P3D
REFRESH-INTERVAL:P3D
CALSCALE:GREGORIAN
BEGIN:VEVENT
DTSTART;VALUE=DATE:20260501
DTEND;VALUE=DATE:20260504
TRANSP:TRANSPARENT
X-MICROSOFT-CDO-ALLDAYEVENT:TRUE
SUMMARY:Valor Ranch – May 2026 Retreat Weekend Applications Open!
DESCRIPTION:Valor Ranch is currently accepting applications for an upcoming Retreat Weekend in May 2026\, serving active-duty service members\, veterans\, and first responders who are actively engaged in care or recovery.\n\nValor Ranch provides structured\, short-term respite in a peaceful ranch environment supporting those who serve our communities every day. \n\nWe invite Chamber members\, employers\, healthcare providers\, first responder agencies\, and veteran-serving organizations to share this opportunity with eligible individuals within your networks.\n\n?? Open to: Active Military\, Veterans & First Responders\n\n?? Format: Restorative retreat weekend\n\n?? Application required\n\n?? Limited availability for May 2026\n\n?? Learn more about Valor Ranch and the application process:\n\n?? https://www.valorranch.us/guest-intake.html\n\nThank you for helping us extend care\, connection\, and community to those who serve.
X-ALT-DESC;FMTTYPE=text/html:<div>\n<div>\n<p>Valor Ranch is currently accepting applications for an upcoming <strong>Retreat Weekend in May 2026</strong>\, serving <strong>active-duty service members\, veterans\, and first responders</strong> who are actively engaged in care or recovery.</p>\n\n<p>Valor Ranch provides structured\, short-term respite in a peaceful ranch environment&mdash\;supporting those who serve our communities every day.&nbsp\;</p>\n\n<p>We invite <strong>Chamber members\, employers\, healthcare providers\, first responder agencies\, and veteran-serving organizations</strong> to share this opportunity with eligible individuals within your networks.</p>\n\n<p>?? Open to: Active Military\, Veterans &amp\; First Responders<br />\n?? Format: Restorative retreat weekend<br />\n?? Application required<br />\n?? Limited availability for May 2026</p>\n\n<p>?? Learn more about Valor Ranch and the application process:<br />\n?? https://www.valorranch.us/guest-intake.html</p>\n\n<p>Thank you for helping us extend care\, connection\, and community to those who serve.</p>\n</div>\n</div>\n
LOCATION:15360 James Madison Pkwy\, King George\, Virginia 22485
UID:e.492.15344
SEQUENCE:3
DTSTAMP:20260421T143509Z
URL:https://members.fredericksburgchamber.org/events/details/valor-ranch-may-2026-retreat-weekend-applications-open-15344
END:VEVENT

END:VCALENDAR
