BEGIN:VCALENDAR
VERSION:2.0
PRODID:-//ChamberMaster//Event Calendar 2.0//EN
METHOD:PUBLISH
X-PUBLISHED-TTL:P3D
REFRESH-INTERVAL:P3D
CALSCALE:GREGORIAN
BEGIN:VEVENT
DTSTART:20231104T140000Z
DTEND:20231104T160000Z
X-MICROSOFT-CDO-ALLDAYEVENT:FALSE
SUMMARY:Veteran's Day Ceremony
DESCRIPTION:Spotsylvania Sheriff's Office will be hosting its 2nd annual Veterans day
X-ALT-DESC;FMTTYPE=text/html:<span style="font-family:calibri\,sans-serif"><span style="font-size:11.0pt">Spotsylvania Sheriff&rsquo\;s Office will be hosting its 2nd annual Veterans day&nbsp\;</span></span>
LOCATION:Public Safety Building- 9119 Dean Ridings Lane
UID:e.492.13720
SEQUENCE:3
DTSTAMP:20260421T232605Z
URL:https://members.fredericksburgchamber.org/events/details/veteran-s-day-ceremony-13720
END:VEVENT

END:VCALENDAR
