BEGIN:VCALENDAR
VERSION:2.0
PRODID:-//ChamberMaster//Event Calendar 2.0//EN
METHOD:PUBLISH
X-PUBLISHED-TTL:P3D
REFRESH-INTERVAL:P3D
CALSCALE:GREGORIAN
BEGIN:VEVENT
DTSTART:20221025T123000Z
DTEND:20221025T180000Z
X-MICROSOFT-CDO-ALLDAYEVENT:FALSE
SUMMARY:Veterans Business Bootcamp: Expanding Business
DESCRIPTION:This Veterans Business Bootcamp is designed for veterans and partners to grow your veteran owned business. You will be led through educational sessions by veteran entrepreneurs and local business executives\, and have one-on-one discussions with top providing regional professionals including CPA's\, Attorney's\, Marketing Agencies and more! Special presenters will focused on Growth Mindset\, Attracting and Retaining Employees\, and Financial Growth Solutions followed by the ceremony for the annual Regional Veterans Business of the Year Award presented by the UMW Small Business Development Center. The Veterans Business Bootcamp Workshop is a program instituted by the University of Mary Washington Center for Economic Development (UMW SBDC) and the Stafford County Economic Development Authority (Stafford EDA). This bi-annual Veterans Business Bootcamp workshop is offered in the spring and fall\, covering a variety of business startup\, development and expansion processes for veteran entrepreneurs and partners.
X-ALT-DESC;FMTTYPE=text/html:This Veterans Business Bootcamp is designed for veterans and partners to grow your veteran owned business. You will be led through educational sessions by veteran entrepreneurs and local business executives\, and have one-on-one discussions with top providing regional professionals including CPA&rsquo\;s\, Attorney&rsquo\;s\, Marketing Agencies and more! Special presenters will focused on Growth Mindset\, Attracting and Retaining Employees\, and Financial Growth Solutions followed by the ceremony for the annual Regional Veterans Business of the Year Award presented by the UMW Small Business Development Center. The Veterans Business Bootcamp Workshop is a program instituted by the University of Mary Washington Center for Economic Development (UMW SBDC) and the Stafford County Economic Development Authority (Stafford EDA). This bi-annual Veterans Business Bootcamp workshop is offered in the spring and fall\, covering a variety of business startup\, development and expansion processes for veteran entrepreneurs and partners.
LOCATION:UMW Stafford Campus
UID:e.492.13136
SEQUENCE:3
DTSTAMP:20260422T181119Z
URL:https://members.fredericksburgchamber.org/events/details/veterans-business-bootcamp-expanding-business-13136
END:VEVENT

END:VCALENDAR
