BEGIN:VCALENDAR
VERSION:2.0
PRODID:-//ChamberMaster//Event Calendar 2.0//EN
METHOD:PUBLISH
X-PUBLISHED-TTL:P3D
REFRESH-INTERVAL:P3D
CALSCALE:GREGORIAN
BEGIN:VEVENT
DTSTART:20221205T160000Z
DTEND:20221205T180000Z
X-MICROSOFT-CDO-ALLDAYEVENT:FALSE
SUMMARY:VHDA and Beyond: First Time Homebuyer Options You Never Knew Existed
DESCRIPTION:Free Lunch and Learn for Realtors about First TIme Homebuyer Programs.
X-ALT-DESC;FMTTYPE=text/html:Free Lunch and Learn for Realtors about First TIme Homebuyer Programs.
LOCATION:Fredericksburg Area Association of Realtors 2050 Gordon W. Shelton Blvd\, Fredericksburg\, VA 22401
UID:e.492.13272
SEQUENCE:3
DTSTAMP:20260422T152021Z
URL:https://members.fredericksburgchamber.org/events/details/vhda-and-beyond-first-time-homebuyer-options-you-never-knew-existed-13272
END:VEVENT

END:VCALENDAR
