BEGIN:VCALENDAR
VERSION:2.0
PRODID:-//ChamberMaster//Event Calendar 2.0//EN
METHOD:PUBLISH
X-PUBLISHED-TTL:P3D
REFRESH-INTERVAL:P3D
CALSCALE:GREGORIAN
BEGIN:VEVENT
DTSTART:20220924T130000Z
DTEND:20220925T210000Z
X-MICROSOFT-CDO-ALLDAYEVENT:FALSE
SUMMARY:Via Calori Stafford
DESCRIPTION:Via Colori  is a street painting festival in which local and invited artists literally paint the streets with beautiful and yet ephemeral masterpieces for a one-of-a-kind community experience. This free and family-friendly event showcases the artistic process of creating large scale images with environmentally friendly chalk that highlights the joy of creation that is available to everyone.
X-ALT-DESC;FMTTYPE=text/html:Via Colori&reg\; is a street painting festival in which local and invited artists literally paint the streets with beautiful and yet ephemeral masterpieces for a one-of-a-kind community experience. This free and family-friendly event showcases the artistic process of creating large scale images with environmentally friendly chalk that highlights the joy of creation that is available to everyone.
LOCATION:HWY 630 ECommuter Lots\, Courthouse Rd (Exit 140)
UID:e.492.12651
SEQUENCE:3
DTSTAMP:20260422T225523Z
URL:https://members.fredericksburgchamber.org/events/details/via-calori-stafford-12651
END:VEVENT

END:VCALENDAR
