BEGIN:VCALENDAR
VERSION:2.0
PRODID:-//ChamberMaster//Event Calendar 2.0//EN
METHOD:PUBLISH
X-PUBLISHED-TTL:P3D
REFRESH-INTERVAL:P3D
CALSCALE:GREGORIAN
BEGIN:VEVENT
DTSTART:20220924T130000Z
DTEND:20220925T210000Z
X-MICROSOFT-CDO-ALLDAYEVENT:FALSE
SUMMARY:Via Colori Stafford!
DESCRIPTION:Join local artists in transforming the streets while enjoying live music\, food\, and activities. Via Colori Stafford! is an event hosted by the Stafford Museum and Cultural Center\, the North Stafford Rotary Club\, and the Rotary Club of Stafford. This two-day\, family-friendly event is a celebration of the creative process and takes place from 9:00 am to 5:00 pm Saturday\, September 24\, through Sunday\, September 25\, 2022 (rain date: October 1-2). This event is free for participating artists and the public\, and you'll find a number of community organizations and sponsor tables to visit\, plus activities for children and a variety of food trucks. Visit vcstafford.com for information on how to become an artist\, volunteer\, event sponsor\, or entertainer.
X-ALT-DESC;FMTTYPE=text/html:Join local artists in transforming the streets while enjoying live music\, food\, and activities. Via Colori Stafford! is an event hosted by the Stafford Museum and Cultural Center\, the North Stafford Rotary Club\, and the Rotary Club of Stafford. This two-day\, family-friendly event is a celebration of the creative process and takes place from 9:00 am to 5:00 pm Saturday\, September 24\, through Sunday\, September 25\, 2022 (rain date: October 1-2). This event is free for participating artists and the public\, and you&rsquo\;ll find a number of community organizations and sponsor tables to visit\, plus activities for children and a variety of food trucks. Visit vcstafford.com for information on how to become an artist\, volunteer\, event sponsor\, or entertainer.
LOCATION:Stafford Courthouse Commuter Lot 1150 Courthouse Rd.\, Stafford\, VA 22554
UID:e.492.13104
SEQUENCE:3
DTSTAMP:20260422T194007Z
URL:https://members.fredericksburgchamber.org/events/details/via-colori-stafford-13104
END:VEVENT

END:VCALENDAR
