BEGIN:VCALENDAR
VERSION:2.0
PRODID:-//ChamberMaster//Event Calendar 2.0//EN
METHOD:PUBLISH
X-PUBLISHED-TTL:P3D
REFRESH-INTERVAL:P3D
CALSCALE:GREGORIAN
BEGIN:VEVENT
DTSTART:20221229T230000Z
DTEND:20221230T010000Z
X-MICROSOFT-CDO-ALLDAYEVENT:FALSE
SUMMARY:Virtual BINGO
DESCRIPTION:Fredericksburg SHRM is bringing all the fun of bingo right to the comfort of your own home. We welcome everyone to play\; you don't have to be a member. Invite your friends and family to participate - the more\, the merrier. See some familiar faces\, play for great prizes and help support the SHRM Foundation. Register now\, http://ow.ly/xj6w50LULoP #HRFUN
X-ALT-DESC;FMTTYPE=text/html:Fredericksburg SHRM is bringing all the fun of bingo right to the comfort of your own home. We welcome everyone to play\; you don&#39\;t have to be a member. Invite your friends and family to participate - the more\, the merrier. See some familiar faces\, play for great prizes and help support the SHRM Foundation. Register now\, http://ow.ly/xj6w50LULoP #HRFUN
LOCATION:Virtual\, zoom link will be provided after registration.
UID:e.492.13278
SEQUENCE:3
DTSTAMP:20260422T150039Z
URL:https://members.fredericksburgchamber.org/events/details/virtual-bingo-13278
END:VEVENT

END:VCALENDAR
