BEGIN:VCALENDAR
VERSION:2.0
PRODID:-//ChamberMaster//Event Calendar 2.0//EN
METHOD:PUBLISH
X-PUBLISHED-TTL:P3D
REFRESH-INTERVAL:P3D
CALSCALE:GREGORIAN
BEGIN:VEVENT
DTSTART:20221115T220000Z
DTEND:20221116T000000Z
X-MICROSOFT-CDO-ALLDAYEVENT:FALSE
SUMMARY:Virtual BINGO Fundraiser
DESCRIPTION:Are you ready to have some fun?!Grab some food & drinks and join us for a virtual game of BINGO (or two\, time permitting) via Zoom Video Conferencing. All are welcome!  100 percent of the proceeds will be donated to SHRM Foundation.
X-ALT-DESC;FMTTYPE=text/html:<span style="background-color:rgb(255\, 255\, 255)\; font-family:merriweather\,georgia\,serif\; font-size:15px">Are you ready to have some fun?!Grab some food &amp\; drinks and join us for a virtual game of BINGO (or two\, time permitting) via Zoom Video Conferencing. All are welcome!&nbsp\; 100 percent of the proceeds will be donated to&nbsp\;<a href="https://www.shrm.org/foundation/about/Pages/about-us.aspx">SHRM Foundation</a>.</span><br />\n<br />\n<br />\n<br />\n&nbsp\;
LOCATION:Virtual\, zoom details to be provided after registration.
UID:e.492.13175
SEQUENCE:3
DTSTAMP:20260422T163546Z
URL:https://members.fredericksburgchamber.org/events/details/virtual-bingo-fundraiser-13175
END:VEVENT

END:VCALENDAR
