BEGIN:VCALENDAR
VERSION:2.0
PRODID:-//ChamberMaster//Event Calendar 2.0//EN
METHOD:PUBLISH
X-PUBLISHED-TTL:P3D
REFRESH-INTERVAL:P3D
CALSCALE:GREGORIAN
BEGIN:VEVENT
DTSTART;VALUE=DATE:20250601
DTEND;VALUE=DATE:20250901
TRANSP:TRANSPARENT
X-MICROSOFT-CDO-ALLDAYEVENT:TRUE
SUMMARY:Virtual CASA Run / Walk Challenge
DESCRIPTION:Heroes don't need capes   just tennis shoes! So put on a comfy pair and be a hero to abused and neglected children by joining CASA's Virtual Run/Walk Challenge! Between June 1 and Sept. 5\, 2025\, three teams will compete for the most mileage\, with donations and a portion of the registration fees supporting CASA's efforts to advocate for vulnerable kiddos. Each team is named after a superhero\, and Rappahannock CASA's own team   open to anyone   is called The Incredibles\, in honor of our amazing volunteer advocates.\n\n\n\nJoin the Challenge here: ?https://runsignup.com/Race/VA/Fredericksburg/DowntownMileforCASA\n\n\n\nCASA volunteers are specially trained and appointed by local judges to advocate for the best interests of children who are before the court because they've been abused or neglected. Advocates meet monthly with the children they're serving and make recommendations about services that will help these children heal from their trauma.
X-ALT-DESC;FMTTYPE=text/html:<span style="font-family:tahoma\,sans-serif">Heroes don&rsquo\;t need capes &ndash\; just tennis shoes! So put on a comfy pair and be a hero to abused and neglected children by joining <a href="https://runsignup.com/RaceGroups/89476?raceGroupTypeId=135799">CASA&rsquo\;s Virtual Run/Walk Challenge</a>! Between June 1 and Sept. 5\, 2025\, three teams will compete for the most mileage\, with donations and a portion of the registration fees supporting CASA&rsquo\;s efforts to advocate for vulnerable kiddos. Each team is named after a superhero\, and Rappahannock CASA&rsquo\;s own team &ndash\; open to anyone &ndash\; is called <strong>The Incredibles</strong>\, in honor of our amazing volunteer advocates.<br />\n<br />\nJoin the Challenge here:&nbsp\;</span>?https://runsignup.com/Race/VA/Fredericksburg/DowntownMileforCASA<br />\n<br />\n<span style="font-family:tahoma\,sans-serif">CASA volunteers are specially trained and appointed by local judges to advocate for the best interests of children who are before the court because they&#39\;ve been abused or neglected. Advocates meet monthly with the children they&#39\;re serving and make recommendations about services that will help these children heal from their trauma.</span>
LOCATION:You can do this ANYWHERE!
UID:e.492.14866
SEQUENCE:3
DTSTAMP:20260422T015931Z
URL:https://members.fredericksburgchamber.org/events/details/virtual-casa-run-walk-challenge-14866
END:VEVENT

END:VCALENDAR
