BEGIN:VCALENDAR
VERSION:2.0
PRODID:-//ChamberMaster//Event Calendar 2.0//EN
METHOD:PUBLISH
X-PUBLISHED-TTL:P3D
REFRESH-INTERVAL:P3D
CALSCALE:GREGORIAN
BEGIN:VEVENT
DTSTART:20220817T160000Z
DTEND:20220817T170000Z
X-MICROSOFT-CDO-ALLDAYEVENT:FALSE
SUMMARY:Virtual Series to Help Workers\, Leaders and Helpers with Burnout & Stress
DESCRIPTION:Inner Rebellion: Turning Resistance into Resilience\n\nWednesday August 17th\, 2-3pm (Eastern Time) will be the first virtual roundtable meetup for the helpers\, leaders and professionals in the community dealing with stress. These have been created by Barbara Gustavson\, Founder of Discover Next Step\, who equips leaders\, influencers and decision-makers by utilizing a holistic leadership approach. This series of talks from thought-leaders with a Q&A afterwards has been designed for those who are struggling with burnout (have the 'burnout blues') and want to restore their career passion\, have a fresh perspective\, new thinking and self-discoveries.\n\n\n\nSession 1: How to Know What to Let Go of with Johnnie Lloyd and host Barbara Gustavson\n\n\n\nEmail barbara@discovernextstep.com for any questions about this event.\n\n\n\nEach month we'll have a separate registration - dates to be announced for other sessions. You can pick and choose which sessions you want to attend. \n\n \n\nReaction to previous seminars with Barbara:\n\n"Everyone who attends her seminars is an involved participant and comes away having gained new insights and tools with which to implement positive growth"   Tracy McPeck\, Central Rappahannock Regional Library\n\n \n\n"As an entrepreneur for the last 25 years\, I remember the times of burnout as clearly as I recall the times of great success. I sure wish I had someone to help me manage the down times when it was filled with chaos and uncertainty. Often times we have no one we can go to who understands where we are\, or who is willing to help and serve us without some form of their own agenda."   Martinelli & Associates\n\n \n\n"I was conflicted about which way to turn in my business and couldn't make a decision. I highly recommend Barbara for anyone who wants to gain better clarity in their own life and isn't sure where to start."   Laurie K.\n\n \n\nAbout Johnnie Lloyd: Founder of Johnnie Lloyd and Associates\, she is a financial and speaker guru\, 3X's international best-selling author and transformative business consultant who specializes in 3 things: People\, Productivity\, and Profitability. https://johnnielloyd.com/\n\n\n\nAbout Barbara Gustavson: Born and raised in Virginia\, Barbara is a wife\, mom and nature nut. She is the founder Discover Next Step\, and is an executive\, leadership and brain health coach/trainer.  She is head facilitator of Dr. Daniel Amen's Brain Health Licensed Trainer Course with Amen University. www.discovernextstep.com
X-ALT-DESC;FMTTYPE=text/html:<strong><span style="font-family:arial\,sans-serif"><span style="font-size:15pt">Inner Rebellion: Turning Resistance into Resilience</span></span></strong><br />\n<span style="font-family:arial\,sans-serif"><span style="font-size:11pt">Wednesday August 17th\, 2-3pm (Eastern Time) will be the first virtual roundtable meetup for the helpers\, leaders and professionals in the community dealing with stress. These have been created by Barbara Gustavson\, Founder of Discover Next Step\, who equips leaders\, influencers and decision-makers by utilizing a holistic leadership approach. This series of talks from thought-leaders with a Q&amp\;A afterwards has been designed for those who are struggling with burnout (have the &lsquo\;burnout blues&rsquo\;) and want to restore their career passion\, have a fresh perspective\, new thinking and self-discoveries.<br />\n<br />\n<strong>Session 1: How to Know What to Let Go of with Johnnie Lloyd and host Barbara Gustavson</strong></span></span><br />\n<br />\n<em><span style="font-family:arial\,sans-serif"><span style="font-size:11pt">Email&nbsp\;<a href="mailto:barbara@discovernextstep.com" style="color: rgb(5\, 99\, 193)\;">barbara@discovernextstep.com</a>&nbsp\;for any questions about this event.<br />\n<br />\nEach month we&#39\;ll have a separate registration - dates to be announced for other sessions. You can pick and choose which sessions you want to attend.&nbsp\;</span></span></em><br />\n&nbsp\;<br />\n<strong><span style="font-family:arial\,sans-serif"><span style="font-size:13pt">Reaction to previous seminars with Barbara:</span></span></strong><br />\n<em><span style="font-family:arial\,sans-serif"><span style="font-size:11pt">&ldquo\;Everyone who attends her seminars is an involved participant and comes away having gained new insights and tools with which to implement positive growth&rdquo\;</span></span></em><span style="font-family:arial\,sans-serif"><span style="font-size:11pt"> &ndash\; <strong>Tracy McPeck\, Central Rappahannock Regional Library</strong></span></span><br />\n&nbsp\;<br />\n<em><span style="font-family:arial\,sans-serif"><span style="font-size:11pt">&ldquo\;As an entrepreneur for the last 25 years\, I remember the times of burnout as clearly as I recall the times of great success. I sure wish I had someone to help me manage the down times when it was filled with chaos and uncertainty. Often times we have no one we can go to who understands where we are\, or who is willing to help and serve us without some form of their own agenda.&rdquo\; &ndash\; </span></span></em><strong><span style="font-family:arial\,sans-serif"><span style="font-size:11pt">Martinelli &amp\; Associates</span></span></strong><br />\n&nbsp\;<br />\n<em><span style="font-family:arial\,sans-serif"><span style="font-size:11pt">&ldquo\;I was conflicted about which way to turn in my business and couldn&#39\;t make a decision. I highly recommend Barbara for anyone who wants to gain better clarity in their own life and isn&#39\;t sure where to start.&rdquo\; &ndash\; <strong>Laurie K</strong>.</span></span></em><br />\n&nbsp\;<br />\n<strong><span style="font-size:11pt">About Johnnie Lloyd: </span></strong><em>Founder of Johnnie Lloyd and Associates\, she is a financial and speaker guru\, 3X&#39\;s international best-selling author and transformative business consultant who specializes in 3 things: People\, Productivity\, and Profitability.&nbsp\;</em><em>https://johnnielloyd.com/</em><br />\n<br />\n<span style="font-size:11pt"><strong>About Barbara Gustavson:</strong> </span><em><span style="font-size:11pt">Born and raised in Virginia\, Barbara is a wife\, mom and nature nut. She is the founder Discover Next Step\, and is an executive\, leadership and brain health coach/trainer.&nbsp\; </span>She is</em><span style="font-family:arial\,sans-serif"><span style="font-size:11pt"><em>&nbsp\;head facilitator of Dr. Daniel Amen&#39\;s Brain Health Licensed Trainer Course with Amen University. www.discovernextstep.com</em></span></span><br />\n&nbsp\;
LOCATION:This is a virtual monthly series August - December 2022.
UID:e.492.13047
SEQUENCE:3
DTSTAMP:20260423T004144Z
URL:https://members.fredericksburgchamber.org/events/details/virtual-series-to-help-workers-leaders-and-helpers-with-burnout-stress-13047
END:VEVENT

END:VCALENDAR
