BEGIN:VCALENDAR
VERSION:2.0
PRODID:-//ChamberMaster//Event Calendar 2.0//EN
METHOD:PUBLISH
X-PUBLISHED-TTL:P3D
REFRESH-INTERVAL:P3D
CALSCALE:GREGORIAN
BEGIN:VEVENT
DTSTART:20250623T140000Z
DTEND:20250623T150000Z
X-MICROSOFT-CDO-ALLDAYEVENT:FALSE
SUMMARY:Virtual Town Hall with U.S. Senator Tim Kaine
DESCRIPTION:Don't miss out on this unique public policy program!\n\n \n\nWe are proud to welcome United State Senators Tim Kaine and Mark Warner for back-to-back virtual town hall events!  Ten of Northern Virginia's chambers of commerce have collaborated to deliver these important events.\n\n \n\n\nJoin your fellow business leaders in these important discussions.\n\nSenators Kaine and Warner will discuss the impact of the current administration's policies on Northern Virginia's economy.  We'll review decisions impacting workforce\, procurement\, federal programs\, tariffs\, and more.  Be informed on the direct impact that key federal legislation may have on your business operations.\n\n\nThe virtual town hall with Senator Kaine will be hosted on Monday\, June 23\, 2025 from 10:00 AM - 11:00 AM.\n\n \n\nClick here to register for this event.\n\nThere is no fee to attend. Advance registration is required to receive the Zoom link.
X-ALT-DESC;FMTTYPE=text/html:<div><em><strong>Don&#39\;t miss out on this unique public policy program!</strong></em></div>\n\n<div>&nbsp\;</div>\n\n<div>We are proud to welcome United State Senators&nbsp\;<strong>Tim Kaine</strong>&nbsp\;and&nbsp\;<strong>Mark Warner</strong>&nbsp\;for back-to-back virtual town hall events!&nbsp\; Ten of Northern Virginia&#39\;s chambers of commerce have collaborated to deliver these important events.</div>\n\n<div>&nbsp\;</div>\n\n<div>\n<p><strong>Join your fellow business leaders in these important discussions.</strong></p>\n\n<p>Senators Kaine and Warner will discuss the impact of the current administration&#39\;s policies on Northern Virginia&#39\;s economy.&nbsp\; We&#39\;ll review decisions impacting workforce\, procurement\, federal programs\, tariffs\, and more.&nbsp\; Be informed on the direct impact that key federal legislation may have on your business operations.</p>\n</div>\n\n<div>The virtual town hall with&nbsp\;<strong>Senator Kaine&nbsp\;</strong>will be hosted on&nbsp\;<strong>Monday\, June 23\, 2025&nbsp\;</strong>from&nbsp\;<strong>10:00 AM - 11:00 AM.</strong></div>\n\n<div>&nbsp\;</div>\n\n<div>Click <a href="https://restonva.chambermaster.com/eventregistration/register/18503">here</a> to register for this event.</div>\n\n<div><em><strong>There is no fee to attend. Advance registration is required to receive the Zoom link.</strong>&nbsp\;</em></div>\n
LOCATION:
UID:e.492.14870
SEQUENCE:3
DTSTAMP:20260422T020401Z
URL:https://members.fredericksburgchamber.org/events/details/virtual-town-hall-with-u-s-senator-tim-kaine-14870
END:VEVENT

END:VCALENDAR
