BEGIN:VCALENDAR
VERSION:2.0
PRODID:-//ChamberMaster//Event Calendar 2.0//EN
METHOD:PUBLISH
X-PUBLISHED-TTL:P3D
REFRESH-INTERVAL:P3D
CALSCALE:GREGORIAN
BEGIN:VEVENT
DTSTART:20231209T180000Z
DTEND:20231209T210000Z
X-MICROSOFT-CDO-ALLDAYEVENT:FALSE
SUMMARY:Visit with Santa
DESCRIPTION:Ho! Ho! Ho! Join the NMMC staff and celebrate the joy and excitement of the holiday season during Santa's visit to the National Museum of the Marine Corps. Holiday-themed activities and crafts will be available while waiting to meet the jolly old elf. Photos with Santa are available from 1-4p. Guests must provide their own camera. All families must be in line by 3p to ensure a photo with Santa. All Family Days are free and open to the public.
X-ALT-DESC;FMTTYPE=text/html:Ho! Ho! Ho! Join the NMMC staff and celebrate the joy and excitement of the holiday season during Santa&#39\;s visit to the National Museum of the Marine Corps. Holiday-themed activities and crafts will be available while waiting to meet the jolly old elf. Photos with Santa are available from 1-4p. Guests must provide their own camera. All families must be in line by 3p to ensure a photo with Santa. All Family Days are free and open to the public.
LOCATION:National Museum of the Marines Corps 1775 Semper Fidelis Way\, Triangle\, VA 22172
UID:e.492.13763
SEQUENCE:3
DTSTAMP:20260421T232404Z
URL:https://members.fredericksburgchamber.org/events/details/visit-with-santa-13763
END:VEVENT

END:VCALENDAR
