BEGIN:VCALENDAR
VERSION:2.0
PRODID:-//ChamberMaster//Event Calendar 2.0//EN
METHOD:PUBLISH
X-PUBLISHED-TTL:P3D
REFRESH-INTERVAL:P3D
CALSCALE:GREGORIAN
BEGIN:VEVENT
DTSTART:20221008T130000Z
DTEND:20221008T150000Z
X-MICROSOFT-CDO-ALLDAYEVENT:FALSE
SUMMARY:Walk to End Alzheimer's
DESCRIPTION:The event is a 1 or 3 mile route. There is no registration fee. Strollers are welcomed as well\, dogs on a leash. Walk to End Alzheimer's in Fredericksburg supports programs and services to the community at no cost.
X-ALT-DESC;FMTTYPE=text/html:The event is a 1 or 3 mile route. There is no registration fee. Strollers are welcomed as well\, dogs on a leash. Walk to End Alzheimer&#39\;s in Fredericksburg supports programs and services to the community at no cost.
LOCATION:Old Mill Park 2201 Caroline St\, Fredericksburg\,
UID:e.492.13048
SEQUENCE:3
DTSTAMP:20260422T181135Z
URL:https://members.fredericksburgchamber.org/events/details/walk-to-end-alzheimer-s-10-08-2022-13048
END:VEVENT

END:VCALENDAR
