BEGIN:VCALENDAR
VERSION:2.0
PRODID:-//ChamberMaster//Event Calendar 2.0//EN
METHOD:PUBLISH
X-PUBLISHED-TTL:P3D
REFRESH-INTERVAL:P3D
CALSCALE:GREGORIAN
BEGIN:VEVENT
DTSTART:20241102T123000Z
DTEND:20241102T160000Z
X-MICROSOFT-CDO-ALLDAYEVENT:FALSE
SUMMARY:Walk To End Alzheimer's - FXBG
DESCRIPTION:The Walk to End Alzheimer's FXBG is an annual event organized by the Alzheimer's Association to raise funds and awareness for Alzheimer's disease and related dementias. Participants come together to walk and show support for individuals and families affected by this disease\, while also advocating for research to find a cure. The event features activities for all ages\, a wonderful ceremony\, and educational opportunities to engage the community and honor those impacted by Alzheimer's. By participating in the Walk\, individuals contribute to vital resources that support research\, care\, and advocacy efforts aimed at ultimately ending Alzheimer's disease. Site Open at 8:30 a.m Ceremony at 9:30 a.m Walk at 10:00 a.m
X-ALT-DESC;FMTTYPE=text/html:The Walk to End Alzheimer&#39\;s FXBG is an annual event organized by the Alzheimer&#39\;s Association to raise funds and awareness for Alzheimer&#39\;s disease and related dementias. Participants come together to walk and show support for individuals and families affected by this disease\, while also advocating for research to find a cure. The event features activities for all ages\, a wonderful ceremony\, and educational opportunities to engage the community and honor those impacted by Alzheimer&#39\;s. By participating in the Walk\, individuals contribute to vital resources that support research\, care\, and advocacy efforts aimed at ultimately ending Alzheimer&#39\;s disease. Site Open at 8:30 a.m Ceremony at 9:30 a.m Walk at 10:00 a.m
LOCATION:Virginia Credit Union Stadium
UID:e.492.14003
SEQUENCE:3
DTSTAMP:20260424T180112Z
URL:https://members.fredericksburgchamber.org/events/details/walk-to-end-alzheimer-s-fxbg-14003
END:VEVENT

END:VCALENDAR
